BEGIN:VCALENDAR
VERSION:2.0
PRODID:-//River Ridge Family Campground - ECPv6.15.15//NONSGML v1.0//EN
CALSCALE:GREGORIAN
METHOD:PUBLISH
X-WR-CALNAME:River Ridge Family Campground
X-ORIGINAL-URL:https://riverridgefamilycampground.com
X-WR-CALDESC:Events for River Ridge Family Campground
REFRESH-INTERVAL;VALUE=DURATION:PT1H
X-Robots-Tag:noindex
X-PUBLISHED-TTL:PT1H
BEGIN:VTIMEZONE
TZID:UTC
BEGIN:STANDARD
TZOFFSETFROM:+0000
TZOFFSETTO:+0000
TZNAME:UTC
DTSTART:20230101T000000
END:STANDARD
END:VTIMEZONE
BEGIN:VEVENT
DTSTART;TZID=UTC:20240914T133000
DTEND;TZID=UTC:20240914T143000
DTSTAMP:20260421T052719
CREATED:20240627T141847Z
LAST-MODIFIED:20240627T165011Z
UID:10000241-1726320600-1726324200@riverridgefamilycampground.com
SUMMARY:Kayak Trip
DESCRIPTION:Transportation for the Kayak/Tube Trips are Thursday to Sunday Only! Any other day\, you can rent them from us and do your own transportation. \nFor more info\, follow us on Facebook or call our office at (989) 842-5184.
URL:https://riverridgefamilycampground.com/event/kayak-trip-2/2024-09-14/
LOCATION:River Ridge Family Campground\, 1989 West Pine River Rd.\, Breckenridge\, MI\, 48615\, United States
ATTACH;FMTTYPE=image/jpeg:https://riverridgefamilycampground.com/wp-content/uploads/2024/06/RR_Events_Kayak-Trip.jpg
END:VEVENT
BEGIN:VEVENT
DTSTART;TZID=UTC:20240914T130000
DTEND;TZID=UTC:20240914T140000
DTSTAMP:20260421T052719
CREATED:20240627T134417Z
LAST-MODIFIED:20240627T155827Z
UID:10000111-1726318800-1726322400@riverridgefamilycampground.com
SUMMARY:Halloween Weekend: Pumpkin Decorating
DESCRIPTION:For more info\, follow us on Facebook or call our office at (989) 842-5184.
URL:https://riverridgefamilycampground.com/event/halloween-weekend-pumpkin-decorating/2024-09-14/
LOCATION:River Ridge Family Campground\, 1989 West Pine River Rd.\, Breckenridge\, MI\, 48615\, United States
ATTACH;FMTTYPE=image/jpeg:https://riverridgefamilycampground.com/wp-content/uploads/2024/06/RR_Events_Pumpkin-Decorating.jpg
END:VEVENT
BEGIN:VEVENT
DTSTART;TZID=UTC:20240914T120000
DTEND;TZID=UTC:20240914T150000
DTSTAMP:20260421T052719
CREATED:20240627T142313Z
LAST-MODIFIED:20240627T164840Z
UID:10000385-1726315200-1726326000@riverridgefamilycampground.com
SUMMARY:Tubing Trips
DESCRIPTION:Transportation for the Kayak/Tube Trips are Thursday to Sunday Only! Any other day\, you can rent them from us and do your own transportation. \nFor more info\, follow us on Facebook or call our office at (989) 842-5184.
URL:https://riverridgefamilycampground.com/event/tubing-trips/2024-09-14/
LOCATION:River Ridge Family Campground\, 1989 West Pine River Rd.\, Breckenridge\, MI\, 48615\, United States
ATTACH;FMTTYPE=image/jpeg:https://riverridgefamilycampground.com/wp-content/uploads/2024/06/RR_Events_Tubing.jpg
END:VEVENT
BEGIN:VEVENT
DTSTART;TZID=UTC:20240914T120000
DTEND;TZID=UTC:20240914T130000
DTSTAMP:20260421T052719
CREATED:20240627T142814Z
LAST-MODIFIED:20240627T164653Z
UID:10000494-1726315200-1726318800@riverridgefamilycampground.com
SUMMARY:Kids Craft
DESCRIPTION:For more info\, follow us on Facebook or call our office at (989) 842-5184.
URL:https://riverridgefamilycampground.com/event/kids-craft/2024-09-14/
LOCATION:River Ridge Family Campground\, 1989 West Pine River Rd.\, Breckenridge\, MI\, 48615\, United States
ATTACH;FMTTYPE=image/jpeg:https://riverridgefamilycampground.com/wp-content/uploads/2024/06/RR_Events_Kids-Craft.jpg
END:VEVENT
BEGIN:VEVENT
DTSTART;TZID=UTC:20240914T110000
DTEND;TZID=UTC:20240914T120000
DTSTAMP:20260421T052719
CREATED:20240627T141703Z
LAST-MODIFIED:20240627T165146Z
UID:10000169-1726311600-1726315200@riverridgefamilycampground.com
SUMMARY:Kayak Trip
DESCRIPTION:Transportation for the Kayak/Tube Trips are Thursday to Sunday Only! Any other day\, you can rent them from us and do your own transportation. \nFor more info\, follow us on Facebook or call our office at (989) 842-5184.
URL:https://riverridgefamilycampground.com/event/kayak-trip/2024-09-14/
LOCATION:River Ridge Family Campground\, 1989 West Pine River Rd.\, Breckenridge\, MI\, 48615\, United States
ATTACH;FMTTYPE=image/jpeg:https://riverridgefamilycampground.com/wp-content/uploads/2024/06/RR_Events_Kayak-Trip.jpg
END:VEVENT
BEGIN:VEVENT
DTSTART;VALUE=DATE:20240914
DTEND;VALUE=DATE:20240915
DTSTAMP:20260421T052719
CREATED:20240627T134611Z
LAST-MODIFIED:20240627T155849Z
UID:10000113-1726272000-1726358399@riverridgefamilycampground.com
SUMMARY:Halloween Weekend: Site Decorating
DESCRIPTION:Judged at 3:00 pm and 9:00 pm \nFor more info\, follow us on Facebook or call our office at (989) 842-5184.
URL:https://riverridgefamilycampground.com/event/halloween-weekend-site-decorating/2024-09-14/
LOCATION:River Ridge Family Campground\, 1989 West Pine River Rd.\, Breckenridge\, MI\, 48615\, United States
ATTACH;FMTTYPE=image/jpeg:https://riverridgefamilycampground.com/wp-content/uploads/2024/06/RR_Events_Site-Decorating.jpg
END:VEVENT
BEGIN:VEVENT
DTSTART;VALUE=DATE:20240914
DTEND;VALUE=DATE:20240915
DTSTAMP:20260421T052719
CREATED:20240627T134255Z
LAST-MODIFIED:20240627T155922Z
UID:10000057-1726272000-1726358399@riverridgefamilycampground.com
SUMMARY:Halloween Weekend: Cider and Donuts in Cafe
DESCRIPTION:For more info\, follow us on Facebook or call our office at (989) 842-5184.
URL:https://riverridgefamilycampground.com/event/halloween-weekend-cider-and-donuts-in-cafe/2024-09-14/
LOCATION:River Ridge Family Campground\, 1989 West Pine River Rd.\, Breckenridge\, MI\, 48615\, United States
ATTACH;FMTTYPE=image/jpeg:https://riverridgefamilycampground.com/wp-content/uploads/2024/06/RR_Events_Cider-and-Donuts.jpg
END:VEVENT
BEGIN:VEVENT
DTSTART;VALUE=DATE:20240914
DTEND;VALUE=DATE:20240915
DTSTAMP:20260421T052719
CREATED:20240618T122646Z
LAST-MODIFIED:20240627T164910Z
UID:10000017-1726272000-1726358399@riverridgefamilycampground.com
SUMMARY:Movie At The Pond
DESCRIPTION:Every Saturday night at dark (Pending Weather: Runs from Memorial Day Weekend to the last Halloween Weekend) \nFor more info\, follow us on Facebook or call our office at (989) 842-5184.
URL:https://riverridgefamilycampground.com/event/movie-at-the-pond/2024-09-14/
LOCATION:River Ridge Family Campground\, 1989 West Pine River Rd.\, Breckenridge\, MI\, 48615\, United States
ATTACH;FMTTYPE=image/jpeg:https://riverridgefamilycampground.com/wp-content/uploads/2024/06/RR_Events_Movie.jpg
END:VEVENT
BEGIN:VEVENT
DTSTART;TZID=UTC:20240913T163000
DTEND;TZID=UTC:20240913T173000
DTSTAMP:20260421T052719
CREATED:20240627T141951Z
LAST-MODIFIED:20240627T164813Z
UID:10000312-1726245000-1726248600@riverridgefamilycampground.com
SUMMARY:Kayak Trip
DESCRIPTION:Transportation for the Kayak/Tube Trips are Thursday to Sunday Only! Any other day\, you can rent them from us and do your own transportation. \nFor more info\, follow us on Facebook or call our office at (989) 842-5184.
URL:https://riverridgefamilycampground.com/event/kayak-trip-3/2024-09-13/
LOCATION:River Ridge Family Campground\, 1989 West Pine River Rd.\, Breckenridge\, MI\, 48615\, United States
ATTACH;FMTTYPE=image/jpeg:https://riverridgefamilycampground.com/wp-content/uploads/2024/06/RR_Events_Kayak-Trip.jpg
END:VEVENT
BEGIN:VEVENT
DTSTART;TZID=UTC:20240913T150000
DTEND;TZID=UTC:20240913T160000
DTSTAMP:20260421T052719
CREATED:20240627T142555Z
LAST-MODIFIED:20240627T165054Z
UID:10000456-1726239600-1726243200@riverridgefamilycampground.com
SUMMARY:Tubing Trips
DESCRIPTION:Transportation for the Kayak/Tube Trips are Thursday to Sunday Only! Any other day\, you can rent them from us and do your own transportation. \nFor more info\, follow us on Facebook or call our office at (989) 842-5184.
URL:https://riverridgefamilycampground.com/event/tubing-trips-2/2024-09-13/
LOCATION:River Ridge Family Campground\, 1989 West Pine River Rd.\, Breckenridge\, MI\, 48615\, United States
ATTACH;FMTTYPE=image/jpeg:https://riverridgefamilycampground.com/wp-content/uploads/2024/06/RR_Events_Tubing.jpg
END:VEVENT
BEGIN:VEVENT
DTSTART;TZID=UTC:20240913T133000
DTEND;TZID=UTC:20240913T143000
DTSTAMP:20260421T052719
CREATED:20240627T141847Z
LAST-MODIFIED:20240627T165011Z
UID:10000240-1726234200-1726237800@riverridgefamilycampground.com
SUMMARY:Kayak Trip
DESCRIPTION:Transportation for the Kayak/Tube Trips are Thursday to Sunday Only! Any other day\, you can rent them from us and do your own transportation. \nFor more info\, follow us on Facebook or call our office at (989) 842-5184.
URL:https://riverridgefamilycampground.com/event/kayak-trip-2/2024-09-13/
LOCATION:River Ridge Family Campground\, 1989 West Pine River Rd.\, Breckenridge\, MI\, 48615\, United States
ATTACH;FMTTYPE=image/jpeg:https://riverridgefamilycampground.com/wp-content/uploads/2024/06/RR_Events_Kayak-Trip.jpg
END:VEVENT
BEGIN:VEVENT
DTSTART;TZID=UTC:20240913T120000
DTEND;TZID=UTC:20240913T150000
DTSTAMP:20260421T052719
CREATED:20240627T142313Z
LAST-MODIFIED:20240627T164840Z
UID:10000384-1726228800-1726239600@riverridgefamilycampground.com
SUMMARY:Tubing Trips
DESCRIPTION:Transportation for the Kayak/Tube Trips are Thursday to Sunday Only! Any other day\, you can rent them from us and do your own transportation. \nFor more info\, follow us on Facebook or call our office at (989) 842-5184.
URL:https://riverridgefamilycampground.com/event/tubing-trips/2024-09-13/
LOCATION:River Ridge Family Campground\, 1989 West Pine River Rd.\, Breckenridge\, MI\, 48615\, United States
ATTACH;FMTTYPE=image/jpeg:https://riverridgefamilycampground.com/wp-content/uploads/2024/06/RR_Events_Tubing.jpg
END:VEVENT
BEGIN:VEVENT
DTSTART;TZID=UTC:20240913T110000
DTEND;TZID=UTC:20240913T120000
DTSTAMP:20260421T052719
CREATED:20240627T141703Z
LAST-MODIFIED:20240627T165146Z
UID:10000168-1726225200-1726228800@riverridgefamilycampground.com
SUMMARY:Kayak Trip
DESCRIPTION:Transportation for the Kayak/Tube Trips are Thursday to Sunday Only! Any other day\, you can rent them from us and do your own transportation. \nFor more info\, follow us on Facebook or call our office at (989) 842-5184.
URL:https://riverridgefamilycampground.com/event/kayak-trip/2024-09-13/
LOCATION:River Ridge Family Campground\, 1989 West Pine River Rd.\, Breckenridge\, MI\, 48615\, United States
ATTACH;FMTTYPE=image/jpeg:https://riverridgefamilycampground.com/wp-content/uploads/2024/06/RR_Events_Kayak-Trip.jpg
END:VEVENT
BEGIN:VEVENT
DTSTART;TZID=UTC:20240912T163000
DTEND;TZID=UTC:20240912T173000
DTSTAMP:20260421T052719
CREATED:20240627T141951Z
LAST-MODIFIED:20240627T164813Z
UID:10000311-1726158600-1726162200@riverridgefamilycampground.com
SUMMARY:Kayak Trip
DESCRIPTION:Transportation for the Kayak/Tube Trips are Thursday to Sunday Only! Any other day\, you can rent them from us and do your own transportation. \nFor more info\, follow us on Facebook or call our office at (989) 842-5184.
URL:https://riverridgefamilycampground.com/event/kayak-trip-3/2024-09-12/
LOCATION:River Ridge Family Campground\, 1989 West Pine River Rd.\, Breckenridge\, MI\, 48615\, United States
ATTACH;FMTTYPE=image/jpeg:https://riverridgefamilycampground.com/wp-content/uploads/2024/06/RR_Events_Kayak-Trip.jpg
END:VEVENT
BEGIN:VEVENT
DTSTART;TZID=UTC:20240912T150000
DTEND;TZID=UTC:20240912T160000
DTSTAMP:20260421T052719
CREATED:20240627T142555Z
LAST-MODIFIED:20240627T165054Z
UID:10000455-1726153200-1726156800@riverridgefamilycampground.com
SUMMARY:Tubing Trips
DESCRIPTION:Transportation for the Kayak/Tube Trips are Thursday to Sunday Only! Any other day\, you can rent them from us and do your own transportation. \nFor more info\, follow us on Facebook or call our office at (989) 842-5184.
URL:https://riverridgefamilycampground.com/event/tubing-trips-2/2024-09-12/
LOCATION:River Ridge Family Campground\, 1989 West Pine River Rd.\, Breckenridge\, MI\, 48615\, United States
ATTACH;FMTTYPE=image/jpeg:https://riverridgefamilycampground.com/wp-content/uploads/2024/06/RR_Events_Tubing.jpg
END:VEVENT
BEGIN:VEVENT
DTSTART;TZID=UTC:20240912T133000
DTEND;TZID=UTC:20240912T143000
DTSTAMP:20260421T052719
CREATED:20240627T141847Z
LAST-MODIFIED:20240627T165011Z
UID:10000239-1726147800-1726151400@riverridgefamilycampground.com
SUMMARY:Kayak Trip
DESCRIPTION:Transportation for the Kayak/Tube Trips are Thursday to Sunday Only! Any other day\, you can rent them from us and do your own transportation. \nFor more info\, follow us on Facebook or call our office at (989) 842-5184.
URL:https://riverridgefamilycampground.com/event/kayak-trip-2/2024-09-12/
LOCATION:River Ridge Family Campground\, 1989 West Pine River Rd.\, Breckenridge\, MI\, 48615\, United States
ATTACH;FMTTYPE=image/jpeg:https://riverridgefamilycampground.com/wp-content/uploads/2024/06/RR_Events_Kayak-Trip.jpg
END:VEVENT
BEGIN:VEVENT
DTSTART;TZID=UTC:20240912T120000
DTEND;TZID=UTC:20240912T150000
DTSTAMP:20260421T052719
CREATED:20240627T142313Z
LAST-MODIFIED:20240627T164840Z
UID:10000383-1726142400-1726153200@riverridgefamilycampground.com
SUMMARY:Tubing Trips
DESCRIPTION:Transportation for the Kayak/Tube Trips are Thursday to Sunday Only! Any other day\, you can rent them from us and do your own transportation. \nFor more info\, follow us on Facebook or call our office at (989) 842-5184.
URL:https://riverridgefamilycampground.com/event/tubing-trips/2024-09-12/
LOCATION:River Ridge Family Campground\, 1989 West Pine River Rd.\, Breckenridge\, MI\, 48615\, United States
ATTACH;FMTTYPE=image/jpeg:https://riverridgefamilycampground.com/wp-content/uploads/2024/06/RR_Events_Tubing.jpg
END:VEVENT
BEGIN:VEVENT
DTSTART;TZID=UTC:20240912T110000
DTEND;TZID=UTC:20240912T120000
DTSTAMP:20260421T052719
CREATED:20240627T141703Z
LAST-MODIFIED:20240627T165146Z
UID:10000167-1726138800-1726142400@riverridgefamilycampground.com
SUMMARY:Kayak Trip
DESCRIPTION:Transportation for the Kayak/Tube Trips are Thursday to Sunday Only! Any other day\, you can rent them from us and do your own transportation. \nFor more info\, follow us on Facebook or call our office at (989) 842-5184.
URL:https://riverridgefamilycampground.com/event/kayak-trip/2024-09-12/
LOCATION:River Ridge Family Campground\, 1989 West Pine River Rd.\, Breckenridge\, MI\, 48615\, United States
ATTACH;FMTTYPE=image/jpeg:https://riverridgefamilycampground.com/wp-content/uploads/2024/06/RR_Events_Kayak-Trip.jpg
END:VEVENT
BEGIN:VEVENT
DTSTART;TZID=UTC:20240908T163000
DTEND;TZID=UTC:20240908T173000
DTSTAMP:20260421T052719
CREATED:20240627T141951Z
LAST-MODIFIED:20240627T164813Z
UID:10000310-1725813000-1725816600@riverridgefamilycampground.com
SUMMARY:Kayak Trip
DESCRIPTION:Transportation for the Kayak/Tube Trips are Thursday to Sunday Only! Any other day\, you can rent them from us and do your own transportation. \nFor more info\, follow us on Facebook or call our office at (989) 842-5184.
URL:https://riverridgefamilycampground.com/event/kayak-trip-3/2024-09-08/
LOCATION:River Ridge Family Campground\, 1989 West Pine River Rd.\, Breckenridge\, MI\, 48615\, United States
ATTACH;FMTTYPE=image/jpeg:https://riverridgefamilycampground.com/wp-content/uploads/2024/06/RR_Events_Kayak-Trip.jpg
END:VEVENT
BEGIN:VEVENT
DTSTART;TZID=UTC:20240908T150000
DTEND;TZID=UTC:20240908T160000
DTSTAMP:20260421T052719
CREATED:20240627T142555Z
LAST-MODIFIED:20240627T165054Z
UID:10000454-1725807600-1725811200@riverridgefamilycampground.com
SUMMARY:Tubing Trips
DESCRIPTION:Transportation for the Kayak/Tube Trips are Thursday to Sunday Only! Any other day\, you can rent them from us and do your own transportation. \nFor more info\, follow us on Facebook or call our office at (989) 842-5184.
URL:https://riverridgefamilycampground.com/event/tubing-trips-2/2024-09-08/
LOCATION:River Ridge Family Campground\, 1989 West Pine River Rd.\, Breckenridge\, MI\, 48615\, United States
ATTACH;FMTTYPE=image/jpeg:https://riverridgefamilycampground.com/wp-content/uploads/2024/06/RR_Events_Tubing.jpg
END:VEVENT
BEGIN:VEVENT
DTSTART;TZID=UTC:20240908T133000
DTEND;TZID=UTC:20240908T143000
DTSTAMP:20260421T052719
CREATED:20240627T141847Z
LAST-MODIFIED:20240627T165011Z
UID:10000238-1725802200-1725805800@riverridgefamilycampground.com
SUMMARY:Kayak Trip
DESCRIPTION:Transportation for the Kayak/Tube Trips are Thursday to Sunday Only! Any other day\, you can rent them from us and do your own transportation. \nFor more info\, follow us on Facebook or call our office at (989) 842-5184.
URL:https://riverridgefamilycampground.com/event/kayak-trip-2/2024-09-08/
LOCATION:River Ridge Family Campground\, 1989 West Pine River Rd.\, Breckenridge\, MI\, 48615\, United States
ATTACH;FMTTYPE=image/jpeg:https://riverridgefamilycampground.com/wp-content/uploads/2024/06/RR_Events_Kayak-Trip.jpg
END:VEVENT
BEGIN:VEVENT
DTSTART;TZID=UTC:20240908T120000
DTEND;TZID=UTC:20240908T150000
DTSTAMP:20260421T052719
CREATED:20240627T142313Z
LAST-MODIFIED:20240627T164840Z
UID:10000382-1725796800-1725807600@riverridgefamilycampground.com
SUMMARY:Tubing Trips
DESCRIPTION:Transportation for the Kayak/Tube Trips are Thursday to Sunday Only! Any other day\, you can rent them from us and do your own transportation. \nFor more info\, follow us on Facebook or call our office at (989) 842-5184.
URL:https://riverridgefamilycampground.com/event/tubing-trips/2024-09-08/
LOCATION:River Ridge Family Campground\, 1989 West Pine River Rd.\, Breckenridge\, MI\, 48615\, United States
ATTACH;FMTTYPE=image/jpeg:https://riverridgefamilycampground.com/wp-content/uploads/2024/06/RR_Events_Tubing.jpg
END:VEVENT
BEGIN:VEVENT
DTSTART;TZID=UTC:20240908T110000
DTEND;TZID=UTC:20240908T120000
DTSTAMP:20260421T052719
CREATED:20240627T141703Z
LAST-MODIFIED:20240627T165146Z
UID:10000166-1725793200-1725796800@riverridgefamilycampground.com
SUMMARY:Kayak Trip
DESCRIPTION:Transportation for the Kayak/Tube Trips are Thursday to Sunday Only! Any other day\, you can rent them from us and do your own transportation. \nFor more info\, follow us on Facebook or call our office at (989) 842-5184.
URL:https://riverridgefamilycampground.com/event/kayak-trip/2024-09-08/
LOCATION:River Ridge Family Campground\, 1989 West Pine River Rd.\, Breckenridge\, MI\, 48615\, United States
ATTACH;FMTTYPE=image/jpeg:https://riverridgefamilycampground.com/wp-content/uploads/2024/06/RR_Events_Kayak-Trip.jpg
END:VEVENT
BEGIN:VEVENT
DTSTART;TZID=UTC:20240907T200000
DTEND;TZID=UTC:20240907T220000
DTSTAMP:20260421T052719
CREATED:20240627T135001Z
LAST-MODIFIED:20240627T155710Z
UID:10000056-1725739200-1725746400@riverridgefamilycampground.com
SUMMARY:Halloween Weekend: Haunted House
DESCRIPTION:For more info\, follow us on Facebook or call our office at (989) 842-5184.
URL:https://riverridgefamilycampground.com/event/halloween-weekend-haunted-house/2024-09-07/
LOCATION:River Ridge Family Campground\, 1989 West Pine River Rd.\, Breckenridge\, MI\, 48615\, United States
ATTACH;FMTTYPE=image/jpeg:https://riverridgefamilycampground.com/wp-content/uploads/2024/06/RR_Events_Haunted-House.jpg
END:VEVENT
BEGIN:VEVENT
DTSTART;TZID=UTC:20240907T170000
DTEND;TZID=UTC:20240907T190000
DTSTAMP:20260421T052719
CREATED:20240627T134909Z
LAST-MODIFIED:20240627T155739Z
UID:10000055-1725728400-1725735600@riverridgefamilycampground.com
SUMMARY:Halloween Weekend: Trick or Treating
DESCRIPTION:Trick or treating immediately following costume contest. \nFor more info\, follow us on Facebook or call our office at (989) 842-5184.
URL:https://riverridgefamilycampground.com/event/halloween-weekend-trick-or-treating/2024-09-07/
LOCATION:MI
ATTACH;FMTTYPE=image/jpeg:https://riverridgefamilycampground.com/wp-content/uploads/2024/06/RR_Events_Trick-or-Treating.jpg
END:VEVENT
BEGIN:VEVENT
DTSTART;TZID=UTC:20240907T163000
DTEND;TZID=UTC:20240907T173000
DTSTAMP:20260421T052719
CREATED:20240627T141951Z
LAST-MODIFIED:20240627T164813Z
UID:10000309-1725726600-1725730200@riverridgefamilycampground.com
SUMMARY:Kayak Trip
DESCRIPTION:Transportation for the Kayak/Tube Trips are Thursday to Sunday Only! Any other day\, you can rent them from us and do your own transportation. \nFor more info\, follow us on Facebook or call our office at (989) 842-5184.
URL:https://riverridgefamilycampground.com/event/kayak-trip-3/2024-09-07/
LOCATION:River Ridge Family Campground\, 1989 West Pine River Rd.\, Breckenridge\, MI\, 48615\, United States
ATTACH;FMTTYPE=image/jpeg:https://riverridgefamilycampground.com/wp-content/uploads/2024/06/RR_Events_Kayak-Trip.jpg
END:VEVENT
BEGIN:VEVENT
DTSTART;TZID=UTC:20240907T160000
DTEND;TZID=UTC:20240907T170000
DTSTAMP:20260421T052719
CREATED:20240627T134716Z
LAST-MODIFIED:20240627T155802Z
UID:10000054-1725724800-1725728400@riverridgefamilycampground.com
SUMMARY:Halloween Weekend: Costume Contest
DESCRIPTION:Trick or treating immediately following costume contest. \nFor more info\, follow us on Facebook or call our office at (989) 842-5184.
URL:https://riverridgefamilycampground.com/event/halloween-weekend-costume-contest/2024-09-07/
LOCATION:River Ridge Family Campground\, 1989 West Pine River Rd.\, Breckenridge\, MI\, 48615\, United States
ATTACH;FMTTYPE=image/jpeg:https://riverridgefamilycampground.com/wp-content/uploads/2024/06/RR_Events_Costume-Contest.jpg
END:VEVENT
BEGIN:VEVENT
DTSTART;TZID=UTC:20240907T150000
DTEND;TZID=UTC:20240907T160000
DTSTAMP:20260421T052719
CREATED:20240627T142931Z
LAST-MODIFIED:20240627T164623Z
UID:10000511-1725721200-1725724800@riverridgefamilycampground.com
SUMMARY:Scavenger Hunt
DESCRIPTION:For more info\, follow us on Facebook or call our office at (989) 842-5184.
URL:https://riverridgefamilycampground.com/event/scavenger-hunt/2024-09-07/
LOCATION:River Ridge Family Campground\, 1989 West Pine River Rd.\, Breckenridge\, MI\, 48615\, United States
ATTACH;FMTTYPE=image/jpeg:https://riverridgefamilycampground.com/wp-content/uploads/2024/06/RR_Events_Scavenger-Hunt.jpg
END:VEVENT
BEGIN:VEVENT
DTSTART;TZID=UTC:20240907T150000
DTEND;TZID=UTC:20240907T160000
DTSTAMP:20260421T052720
CREATED:20240627T142555Z
LAST-MODIFIED:20240627T165054Z
UID:10000453-1725721200-1725724800@riverridgefamilycampground.com
SUMMARY:Tubing Trips
DESCRIPTION:Transportation for the Kayak/Tube Trips are Thursday to Sunday Only! Any other day\, you can rent them from us and do your own transportation. \nFor more info\, follow us on Facebook or call our office at (989) 842-5184.
URL:https://riverridgefamilycampground.com/event/tubing-trips-2/2024-09-07/
LOCATION:River Ridge Family Campground\, 1989 West Pine River Rd.\, Breckenridge\, MI\, 48615\, United States
ATTACH;FMTTYPE=image/jpeg:https://riverridgefamilycampground.com/wp-content/uploads/2024/06/RR_Events_Tubing.jpg
END:VEVENT
BEGIN:VEVENT
DTSTART;TZID=UTC:20240907T133000
DTEND;TZID=UTC:20240907T143000
DTSTAMP:20260421T052720
CREATED:20240627T141847Z
LAST-MODIFIED:20240627T165011Z
UID:10000237-1725715800-1725719400@riverridgefamilycampground.com
SUMMARY:Kayak Trip
DESCRIPTION:Transportation for the Kayak/Tube Trips are Thursday to Sunday Only! Any other day\, you can rent them from us and do your own transportation. \nFor more info\, follow us on Facebook or call our office at (989) 842-5184.
URL:https://riverridgefamilycampground.com/event/kayak-trip-2/2024-09-07/
LOCATION:River Ridge Family Campground\, 1989 West Pine River Rd.\, Breckenridge\, MI\, 48615\, United States
ATTACH;FMTTYPE=image/jpeg:https://riverridgefamilycampground.com/wp-content/uploads/2024/06/RR_Events_Kayak-Trip.jpg
END:VEVENT
END:VCALENDAR