BEGIN:VCALENDAR
VERSION:2.0
PRODID:-//River Ridge Family Campground - ECPv6.15.15//NONSGML v1.0//EN
CALSCALE:GREGORIAN
METHOD:PUBLISH
X-WR-CALNAME:River Ridge Family Campground
X-ORIGINAL-URL:https://riverridgefamilycampground.com
X-WR-CALDESC:Events for River Ridge Family Campground
REFRESH-INTERVAL;VALUE=DURATION:PT1H
X-Robots-Tag:noindex
X-PUBLISHED-TTL:PT1H
BEGIN:VTIMEZONE
TZID:UTC
BEGIN:STANDARD
TZOFFSETFROM:+0000
TZOFFSETTO:+0000
TZNAME:UTC
DTSTART:20230101T000000
END:STANDARD
END:VTIMEZONE
BEGIN:VEVENT
DTSTART;VALUE=DATE:20240907
DTEND;VALUE=DATE:20240908
DTSTAMP:20260421T080739
CREATED:20240618T122646Z
LAST-MODIFIED:20240627T164910Z
UID:10000016-1725667200-1725753599@riverridgefamilycampground.com
SUMMARY:Movie At The Pond
DESCRIPTION:Every Saturday night at dark (Pending Weather: Runs from Memorial Day Weekend to the last Halloween Weekend) \nFor more info\, follow us on Facebook or call our office at (989) 842-5184.
URL:https://riverridgefamilycampground.com/event/movie-at-the-pond/2024-09-07/
LOCATION:River Ridge Family Campground\, 1989 West Pine River Rd.\, Breckenridge\, MI\, 48615\, United States
ATTACH;FMTTYPE=image/jpeg:https://riverridgefamilycampground.com/wp-content/uploads/2024/06/RR_Events_Movie.jpg
END:VEVENT
BEGIN:VEVENT
DTSTART;TZID=UTC:20240906T163000
DTEND;TZID=UTC:20240906T173000
DTSTAMP:20260421T080739
CREATED:20240627T141951Z
LAST-MODIFIED:20240627T164813Z
UID:10000308-1725640200-1725643800@riverridgefamilycampground.com
SUMMARY:Kayak Trip
DESCRIPTION:Transportation for the Kayak/Tube Trips are Thursday to Sunday Only! Any other day\, you can rent them from us and do your own transportation. \nFor more info\, follow us on Facebook or call our office at (989) 842-5184.
URL:https://riverridgefamilycampground.com/event/kayak-trip-3/2024-09-06/
LOCATION:River Ridge Family Campground\, 1989 West Pine River Rd.\, Breckenridge\, MI\, 48615\, United States
ATTACH;FMTTYPE=image/jpeg:https://riverridgefamilycampground.com/wp-content/uploads/2024/06/RR_Events_Kayak-Trip.jpg
END:VEVENT
BEGIN:VEVENT
DTSTART;TZID=UTC:20240906T150000
DTEND;TZID=UTC:20240906T160000
DTSTAMP:20260421T080739
CREATED:20240627T142555Z
LAST-MODIFIED:20240627T165054Z
UID:10000452-1725634800-1725638400@riverridgefamilycampground.com
SUMMARY:Tubing Trips
DESCRIPTION:Transportation for the Kayak/Tube Trips are Thursday to Sunday Only! Any other day\, you can rent them from us and do your own transportation. \nFor more info\, follow us on Facebook or call our office at (989) 842-5184.
URL:https://riverridgefamilycampground.com/event/tubing-trips-2/2024-09-06/
LOCATION:River Ridge Family Campground\, 1989 West Pine River Rd.\, Breckenridge\, MI\, 48615\, United States
ATTACH;FMTTYPE=image/jpeg:https://riverridgefamilycampground.com/wp-content/uploads/2024/06/RR_Events_Tubing.jpg
END:VEVENT
BEGIN:VEVENT
DTSTART;TZID=UTC:20240906T133000
DTEND;TZID=UTC:20240906T143000
DTSTAMP:20260421T080739
CREATED:20240627T141847Z
LAST-MODIFIED:20240627T165011Z
UID:10000236-1725629400-1725633000@riverridgefamilycampground.com
SUMMARY:Kayak Trip
DESCRIPTION:Transportation for the Kayak/Tube Trips are Thursday to Sunday Only! Any other day\, you can rent them from us and do your own transportation. \nFor more info\, follow us on Facebook or call our office at (989) 842-5184.
URL:https://riverridgefamilycampground.com/event/kayak-trip-2/2024-09-06/
LOCATION:River Ridge Family Campground\, 1989 West Pine River Rd.\, Breckenridge\, MI\, 48615\, United States
ATTACH;FMTTYPE=image/jpeg:https://riverridgefamilycampground.com/wp-content/uploads/2024/06/RR_Events_Kayak-Trip.jpg
END:VEVENT
BEGIN:VEVENT
DTSTART;TZID=UTC:20240906T120000
DTEND;TZID=UTC:20240906T150000
DTSTAMP:20260421T080739
CREATED:20240627T142313Z
LAST-MODIFIED:20240627T164840Z
UID:10000380-1725624000-1725634800@riverridgefamilycampground.com
SUMMARY:Tubing Trips
DESCRIPTION:Transportation for the Kayak/Tube Trips are Thursday to Sunday Only! Any other day\, you can rent them from us and do your own transportation. \nFor more info\, follow us on Facebook or call our office at (989) 842-5184.
URL:https://riverridgefamilycampground.com/event/tubing-trips/2024-09-06/
LOCATION:River Ridge Family Campground\, 1989 West Pine River Rd.\, Breckenridge\, MI\, 48615\, United States
ATTACH;FMTTYPE=image/jpeg:https://riverridgefamilycampground.com/wp-content/uploads/2024/06/RR_Events_Tubing.jpg
END:VEVENT
BEGIN:VEVENT
DTSTART;TZID=UTC:20240906T110000
DTEND;TZID=UTC:20240906T120000
DTSTAMP:20260421T080739
CREATED:20240627T141703Z
LAST-MODIFIED:20240627T165146Z
UID:10000164-1725620400-1725624000@riverridgefamilycampground.com
SUMMARY:Kayak Trip
DESCRIPTION:Transportation for the Kayak/Tube Trips are Thursday to Sunday Only! Any other day\, you can rent them from us and do your own transportation. \nFor more info\, follow us on Facebook or call our office at (989) 842-5184.
URL:https://riverridgefamilycampground.com/event/kayak-trip/2024-09-06/
LOCATION:River Ridge Family Campground\, 1989 West Pine River Rd.\, Breckenridge\, MI\, 48615\, United States
ATTACH;FMTTYPE=image/jpeg:https://riverridgefamilycampground.com/wp-content/uploads/2024/06/RR_Events_Kayak-Trip.jpg
END:VEVENT
BEGIN:VEVENT
DTSTART;TZID=UTC:20240905T163000
DTEND;TZID=UTC:20240905T173000
DTSTAMP:20260421T080739
CREATED:20240627T141951Z
LAST-MODIFIED:20240627T164813Z
UID:10000307-1725553800-1725557400@riverridgefamilycampground.com
SUMMARY:Kayak Trip
DESCRIPTION:Transportation for the Kayak/Tube Trips are Thursday to Sunday Only! Any other day\, you can rent them from us and do your own transportation. \nFor more info\, follow us on Facebook or call our office at (989) 842-5184.
URL:https://riverridgefamilycampground.com/event/kayak-trip-3/2024-09-05/
LOCATION:River Ridge Family Campground\, 1989 West Pine River Rd.\, Breckenridge\, MI\, 48615\, United States
ATTACH;FMTTYPE=image/jpeg:https://riverridgefamilycampground.com/wp-content/uploads/2024/06/RR_Events_Kayak-Trip.jpg
END:VEVENT
BEGIN:VEVENT
DTSTART;TZID=UTC:20240905T150000
DTEND;TZID=UTC:20240905T160000
DTSTAMP:20260421T080739
CREATED:20240627T142555Z
LAST-MODIFIED:20240627T165054Z
UID:10000451-1725548400-1725552000@riverridgefamilycampground.com
SUMMARY:Tubing Trips
DESCRIPTION:Transportation for the Kayak/Tube Trips are Thursday to Sunday Only! Any other day\, you can rent them from us and do your own transportation. \nFor more info\, follow us on Facebook or call our office at (989) 842-5184.
URL:https://riverridgefamilycampground.com/event/tubing-trips-2/2024-09-05/
LOCATION:River Ridge Family Campground\, 1989 West Pine River Rd.\, Breckenridge\, MI\, 48615\, United States
ATTACH;FMTTYPE=image/jpeg:https://riverridgefamilycampground.com/wp-content/uploads/2024/06/RR_Events_Tubing.jpg
END:VEVENT
BEGIN:VEVENT
DTSTART;TZID=UTC:20240905T133000
DTEND;TZID=UTC:20240905T143000
DTSTAMP:20260421T080739
CREATED:20240627T141847Z
LAST-MODIFIED:20240627T165011Z
UID:10000235-1725543000-1725546600@riverridgefamilycampground.com
SUMMARY:Kayak Trip
DESCRIPTION:Transportation for the Kayak/Tube Trips are Thursday to Sunday Only! Any other day\, you can rent them from us and do your own transportation. \nFor more info\, follow us on Facebook or call our office at (989) 842-5184.
URL:https://riverridgefamilycampground.com/event/kayak-trip-2/2024-09-05/
LOCATION:River Ridge Family Campground\, 1989 West Pine River Rd.\, Breckenridge\, MI\, 48615\, United States
ATTACH;FMTTYPE=image/jpeg:https://riverridgefamilycampground.com/wp-content/uploads/2024/06/RR_Events_Kayak-Trip.jpg
END:VEVENT
BEGIN:VEVENT
DTSTART;TZID=UTC:20240905T120000
DTEND;TZID=UTC:20240905T150000
DTSTAMP:20260421T080739
CREATED:20240627T142313Z
LAST-MODIFIED:20240627T164840Z
UID:10000379-1725537600-1725548400@riverridgefamilycampground.com
SUMMARY:Tubing Trips
DESCRIPTION:Transportation for the Kayak/Tube Trips are Thursday to Sunday Only! Any other day\, you can rent them from us and do your own transportation. \nFor more info\, follow us on Facebook or call our office at (989) 842-5184.
URL:https://riverridgefamilycampground.com/event/tubing-trips/2024-09-05/
LOCATION:River Ridge Family Campground\, 1989 West Pine River Rd.\, Breckenridge\, MI\, 48615\, United States
ATTACH;FMTTYPE=image/jpeg:https://riverridgefamilycampground.com/wp-content/uploads/2024/06/RR_Events_Tubing.jpg
END:VEVENT
BEGIN:VEVENT
DTSTART;TZID=UTC:20240905T110000
DTEND;TZID=UTC:20240905T120000
DTSTAMP:20260421T080739
CREATED:20240627T141703Z
LAST-MODIFIED:20240627T165146Z
UID:10000163-1725534000-1725537600@riverridgefamilycampground.com
SUMMARY:Kayak Trip
DESCRIPTION:Transportation for the Kayak/Tube Trips are Thursday to Sunday Only! Any other day\, you can rent them from us and do your own transportation. \nFor more info\, follow us on Facebook or call our office at (989) 842-5184.
URL:https://riverridgefamilycampground.com/event/kayak-trip/2024-09-05/
LOCATION:River Ridge Family Campground\, 1989 West Pine River Rd.\, Breckenridge\, MI\, 48615\, United States
ATTACH;FMTTYPE=image/jpeg:https://riverridgefamilycampground.com/wp-content/uploads/2024/06/RR_Events_Kayak-Trip.jpg
END:VEVENT
BEGIN:VEVENT
DTSTART;TZID=UTC:20240901T180000
DTEND;TZID=UTC:20240901T220000
DTSTAMP:20260421T080739
CREATED:20240627T134145Z
LAST-MODIFIED:20240627T155952Z
UID:10000050-1725213600-1725228000@riverridgefamilycampground.com
SUMMARY:Labor Day Weekend Sunday: Live Band
DESCRIPTION:For more info\, follow us on Facebook or call our office at (989) 842-5184.
URL:https://riverridgefamilycampground.com/event/labor-day-weekend-sunday-live-band/
LOCATION:River Ridge Family Campground\, 1989 West Pine River Rd.\, Breckenridge\, MI\, 48615\, United States
ATTACH;FMTTYPE=image/jpeg:https://riverridgefamilycampground.com/wp-content/uploads/2024/06/RR_Events_Live-Band-1.jpg
END:VEVENT
BEGIN:VEVENT
DTSTART;TZID=UTC:20240901T163000
DTEND;TZID=UTC:20240901T173000
DTSTAMP:20260421T080739
CREATED:20240627T141951Z
LAST-MODIFIED:20240627T164813Z
UID:10000306-1725208200-1725211800@riverridgefamilycampground.com
SUMMARY:Kayak Trip
DESCRIPTION:Transportation for the Kayak/Tube Trips are Thursday to Sunday Only! Any other day\, you can rent them from us and do your own transportation. \nFor more info\, follow us on Facebook or call our office at (989) 842-5184.
URL:https://riverridgefamilycampground.com/event/kayak-trip-3/2024-09-01/
LOCATION:River Ridge Family Campground\, 1989 West Pine River Rd.\, Breckenridge\, MI\, 48615\, United States
ATTACH;FMTTYPE=image/jpeg:https://riverridgefamilycampground.com/wp-content/uploads/2024/06/RR_Events_Kayak-Trip.jpg
END:VEVENT
BEGIN:VEVENT
DTSTART;TZID=UTC:20240901T150000
DTEND;TZID=UTC:20240901T160000
DTSTAMP:20260421T080739
CREATED:20240627T142555Z
LAST-MODIFIED:20240627T165054Z
UID:10000450-1725202800-1725206400@riverridgefamilycampground.com
SUMMARY:Tubing Trips
DESCRIPTION:Transportation for the Kayak/Tube Trips are Thursday to Sunday Only! Any other day\, you can rent them from us and do your own transportation. \nFor more info\, follow us on Facebook or call our office at (989) 842-5184.
URL:https://riverridgefamilycampground.com/event/tubing-trips-2/2024-09-01/
LOCATION:River Ridge Family Campground\, 1989 West Pine River Rd.\, Breckenridge\, MI\, 48615\, United States
ATTACH;FMTTYPE=image/jpeg:https://riverridgefamilycampground.com/wp-content/uploads/2024/06/RR_Events_Tubing.jpg
END:VEVENT
BEGIN:VEVENT
DTSTART;TZID=UTC:20240901T133000
DTEND;TZID=UTC:20240901T143000
DTSTAMP:20260421T080739
CREATED:20240627T141847Z
LAST-MODIFIED:20240627T165011Z
UID:10000234-1725197400-1725201000@riverridgefamilycampground.com
SUMMARY:Kayak Trip
DESCRIPTION:Transportation for the Kayak/Tube Trips are Thursday to Sunday Only! Any other day\, you can rent them from us and do your own transportation. \nFor more info\, follow us on Facebook or call our office at (989) 842-5184.
URL:https://riverridgefamilycampground.com/event/kayak-trip-2/2024-09-01/
LOCATION:River Ridge Family Campground\, 1989 West Pine River Rd.\, Breckenridge\, MI\, 48615\, United States
ATTACH;FMTTYPE=image/jpeg:https://riverridgefamilycampground.com/wp-content/uploads/2024/06/RR_Events_Kayak-Trip.jpg
END:VEVENT
BEGIN:VEVENT
DTSTART;TZID=UTC:20240901T130000
DTEND;TZID=UTC:20240901T140000
DTSTAMP:20260421T080739
CREATED:20240627T134101Z
LAST-MODIFIED:20240627T160043Z
UID:10000049-1725195600-1725199200@riverridgefamilycampground.com
SUMMARY:Labor Day Weekend Sunday: Candy Bar Bingo
DESCRIPTION:For more info\, follow us on Facebook or call our office at (989) 842-5184.
URL:https://riverridgefamilycampground.com/event/labor-day-weekend-sunday-candy-bar-bingo/
LOCATION:River Ridge Family Campground\, 1989 West Pine River Rd.\, Breckenridge\, MI\, 48615\, United States
ATTACH;FMTTYPE=image/jpeg:https://riverridgefamilycampground.com/wp-content/uploads/2024/06/RR_Events_Candy-Bar-Bingo.jpg
END:VEVENT
BEGIN:VEVENT
DTSTART;TZID=UTC:20240901T120000
DTEND;TZID=UTC:20240901T150000
DTSTAMP:20260421T080739
CREATED:20240627T142313Z
LAST-MODIFIED:20240627T164840Z
UID:10000378-1725192000-1725202800@riverridgefamilycampground.com
SUMMARY:Tubing Trips
DESCRIPTION:Transportation for the Kayak/Tube Trips are Thursday to Sunday Only! Any other day\, you can rent them from us and do your own transportation. \nFor more info\, follow us on Facebook or call our office at (989) 842-5184.
URL:https://riverridgefamilycampground.com/event/tubing-trips/2024-09-01/
LOCATION:River Ridge Family Campground\, 1989 West Pine River Rd.\, Breckenridge\, MI\, 48615\, United States
ATTACH;FMTTYPE=image/jpeg:https://riverridgefamilycampground.com/wp-content/uploads/2024/06/RR_Events_Tubing.jpg
END:VEVENT
BEGIN:VEVENT
DTSTART;TZID=UTC:20240901T120000
DTEND;TZID=UTC:20240901T130000
DTSTAMP:20260421T080739
CREATED:20240627T134005Z
LAST-MODIFIED:20240627T160121Z
UID:10000048-1725192000-1725195600@riverridgefamilycampground.com
SUMMARY:Labor Day Weekend Sunday: Golf Cart and Bike Parade
DESCRIPTION:For more info\, follow us on Facebook or call our office at (989) 842-5184.
URL:https://riverridgefamilycampground.com/event/labor-day-weekend-sunday-golf-cart-and-bike-parade/
LOCATION:River Ridge Family Campground\, 1989 West Pine River Rd.\, Breckenridge\, MI\, 48615\, United States
ATTACH;FMTTYPE=image/jpeg:https://riverridgefamilycampground.com/wp-content/uploads/2024/06/RR_Events_Golf-Cart-and-Bike-Parade.jpg
END:VEVENT
BEGIN:VEVENT
DTSTART;TZID=UTC:20240901T110000
DTEND;TZID=UTC:20240901T120000
DTSTAMP:20260421T080739
CREATED:20240627T141703Z
LAST-MODIFIED:20240627T165146Z
UID:10000162-1725188400-1725192000@riverridgefamilycampground.com
SUMMARY:Kayak Trip
DESCRIPTION:Transportation for the Kayak/Tube Trips are Thursday to Sunday Only! Any other day\, you can rent them from us and do your own transportation. \nFor more info\, follow us on Facebook or call our office at (989) 842-5184.
URL:https://riverridgefamilycampground.com/event/kayak-trip/2024-09-01/
LOCATION:River Ridge Family Campground\, 1989 West Pine River Rd.\, Breckenridge\, MI\, 48615\, United States
ATTACH;FMTTYPE=image/jpeg:https://riverridgefamilycampground.com/wp-content/uploads/2024/06/RR_Events_Kayak-Trip.jpg
END:VEVENT
BEGIN:VEVENT
DTSTART;TZID=UTC:20240901T090000
DTEND;TZID=UTC:20240901T100000
DTSTAMP:20260421T080739
CREATED:20240627T133921Z
LAST-MODIFIED:20240627T160159Z
UID:10000047-1725181200-1725184800@riverridgefamilycampground.com
SUMMARY:Labor Day Weekend Sunday: Pancake Breakfast
DESCRIPTION:Cost: $3\nFor more info\, follow us on Facebook or call our office at (989) 842-5184.
URL:https://riverridgefamilycampground.com/event/labor-day-weekend-sunday-pancake-breakfast/
LOCATION:River Ridge Family Campground\, 1989 West Pine River Rd.\, Breckenridge\, MI\, 48615\, United States
ATTACH;FMTTYPE=image/jpeg:https://riverridgefamilycampground.com/wp-content/uploads/2024/06/RR_Events_Pancake-Breakfast.jpg
END:VEVENT
BEGIN:VEVENT
DTSTART;TZID=UTC:20240831T180000
DTEND;TZID=UTC:20240831T190000
DTSTAMP:20260421T080739
CREATED:20240627T133811Z
LAST-MODIFIED:20240627T160259Z
UID:10000046-1725127200-1725130800@riverridgefamilycampground.com
SUMMARY:Labor Day Weekend Saturday: Slip and Slide
DESCRIPTION:For more info\, follow us on Facebook or call our office at (989) 842-5184.
URL:https://riverridgefamilycampground.com/event/labor-day-weekend-saturday-slip-and-slide/
LOCATION:River Ridge Family Campground\, 1989 West Pine River Rd.\, Breckenridge\, MI\, 48615\, United States
ATTACH;FMTTYPE=image/jpeg:https://riverridgefamilycampground.com/wp-content/uploads/2024/06/RR_Events_Slip-and-Slide.jpg
END:VEVENT
BEGIN:VEVENT
DTSTART;TZID=UTC:20240831T163000
DTEND;TZID=UTC:20240831T173000
DTSTAMP:20260421T080739
CREATED:20240627T141951Z
LAST-MODIFIED:20240627T164813Z
UID:10000305-1725121800-1725125400@riverridgefamilycampground.com
SUMMARY:Kayak Trip
DESCRIPTION:Transportation for the Kayak/Tube Trips are Thursday to Sunday Only! Any other day\, you can rent them from us and do your own transportation. \nFor more info\, follow us on Facebook or call our office at (989) 842-5184.
URL:https://riverridgefamilycampground.com/event/kayak-trip-3/2024-08-31/
LOCATION:River Ridge Family Campground\, 1989 West Pine River Rd.\, Breckenridge\, MI\, 48615\, United States
ATTACH;FMTTYPE=image/jpeg:https://riverridgefamilycampground.com/wp-content/uploads/2024/06/RR_Events_Kayak-Trip.jpg
END:VEVENT
BEGIN:VEVENT
DTSTART;TZID=UTC:20240831T150000
DTEND;TZID=UTC:20240831T160000
DTSTAMP:20260421T080739
CREATED:20240627T142931Z
LAST-MODIFIED:20240627T164623Z
UID:10000510-1725116400-1725120000@riverridgefamilycampground.com
SUMMARY:Scavenger Hunt
DESCRIPTION:For more info\, follow us on Facebook or call our office at (989) 842-5184.
URL:https://riverridgefamilycampground.com/event/scavenger-hunt/2024-08-31/
LOCATION:River Ridge Family Campground\, 1989 West Pine River Rd.\, Breckenridge\, MI\, 48615\, United States
ATTACH;FMTTYPE=image/jpeg:https://riverridgefamilycampground.com/wp-content/uploads/2024/06/RR_Events_Scavenger-Hunt.jpg
END:VEVENT
BEGIN:VEVENT
DTSTART;TZID=UTC:20240831T150000
DTEND;TZID=UTC:20240831T160000
DTSTAMP:20260421T080739
CREATED:20240627T142555Z
LAST-MODIFIED:20240627T165054Z
UID:10000449-1725116400-1725120000@riverridgefamilycampground.com
SUMMARY:Tubing Trips
DESCRIPTION:Transportation for the Kayak/Tube Trips are Thursday to Sunday Only! Any other day\, you can rent them from us and do your own transportation. \nFor more info\, follow us on Facebook or call our office at (989) 842-5184.
URL:https://riverridgefamilycampground.com/event/tubing-trips-2/2024-08-31/
LOCATION:River Ridge Family Campground\, 1989 West Pine River Rd.\, Breckenridge\, MI\, 48615\, United States
ATTACH;FMTTYPE=image/jpeg:https://riverridgefamilycampground.com/wp-content/uploads/2024/06/RR_Events_Tubing.jpg
END:VEVENT
BEGIN:VEVENT
DTSTART;TZID=UTC:20240831T140000
DTEND;TZID=UTC:20240831T150000
DTSTAMP:20260421T080739
CREATED:20240627T133734Z
LAST-MODIFIED:20240627T160327Z
UID:10000045-1725112800-1725116400@riverridgefamilycampground.com
SUMMARY:Labor Day Weekend Saturday: Cornhole Tournament
DESCRIPTION:For more info\, follow us on Facebook or call our office at (989) 842-5184.
URL:https://riverridgefamilycampground.com/event/labor-day-weekend-saturday-cornhole-tournament/
LOCATION:River Ridge Family Campground\, 1989 West Pine River Rd.\, Breckenridge\, MI\, 48615\, United States
ATTACH;FMTTYPE=image/jpeg:https://riverridgefamilycampground.com/wp-content/uploads/2024/06/RR_Events_Cornhole-Tournament.jpg
END:VEVENT
BEGIN:VEVENT
DTSTART;TZID=UTC:20240831T133000
DTEND;TZID=UTC:20240831T143000
DTSTAMP:20260421T080739
CREATED:20240627T141847Z
LAST-MODIFIED:20240627T165011Z
UID:10000233-1725111000-1725114600@riverridgefamilycampground.com
SUMMARY:Kayak Trip
DESCRIPTION:Transportation for the Kayak/Tube Trips are Thursday to Sunday Only! Any other day\, you can rent them from us and do your own transportation. \nFor more info\, follow us on Facebook or call our office at (989) 842-5184.
URL:https://riverridgefamilycampground.com/event/kayak-trip-2/2024-08-31/
LOCATION:River Ridge Family Campground\, 1989 West Pine River Rd.\, Breckenridge\, MI\, 48615\, United States
ATTACH;FMTTYPE=image/jpeg:https://riverridgefamilycampground.com/wp-content/uploads/2024/06/RR_Events_Kayak-Trip.jpg
END:VEVENT
BEGIN:VEVENT
DTSTART;TZID=UTC:20240831T120000
DTEND;TZID=UTC:20240831T150000
DTSTAMP:20260421T080739
CREATED:20240627T142313Z
LAST-MODIFIED:20240627T164840Z
UID:10000377-1725105600-1725116400@riverridgefamilycampground.com
SUMMARY:Tubing Trips
DESCRIPTION:Transportation for the Kayak/Tube Trips are Thursday to Sunday Only! Any other day\, you can rent them from us and do your own transportation. \nFor more info\, follow us on Facebook or call our office at (989) 842-5184.
URL:https://riverridgefamilycampground.com/event/tubing-trips/2024-08-31/
LOCATION:River Ridge Family Campground\, 1989 West Pine River Rd.\, Breckenridge\, MI\, 48615\, United States
ATTACH;FMTTYPE=image/jpeg:https://riverridgefamilycampground.com/wp-content/uploads/2024/06/RR_Events_Tubing.jpg
END:VEVENT
BEGIN:VEVENT
DTSTART;TZID=UTC:20240831T120000
DTEND;TZID=UTC:20240831T130000
DTSTAMP:20260421T080739
CREATED:20240627T142814Z
LAST-MODIFIED:20240627T164653Z
UID:10000492-1725105600-1725109200@riverridgefamilycampground.com
SUMMARY:Kids Craft
DESCRIPTION:For more info\, follow us on Facebook or call our office at (989) 842-5184.
URL:https://riverridgefamilycampground.com/event/kids-craft/2024-08-31/
LOCATION:River Ridge Family Campground\, 1989 West Pine River Rd.\, Breckenridge\, MI\, 48615\, United States
ATTACH;FMTTYPE=image/jpeg:https://riverridgefamilycampground.com/wp-content/uploads/2024/06/RR_Events_Kids-Craft.jpg
END:VEVENT
BEGIN:VEVENT
DTSTART;TZID=UTC:20240831T120000
DTEND;TZID=UTC:20240831T130000
DTSTAMP:20260421T080739
CREATED:20240627T133210Z
LAST-MODIFIED:20240627T160348Z
UID:10000044-1725105600-1725109200@riverridgefamilycampground.com
SUMMARY:Labor Day Weekend Saturday: Tie Dye
DESCRIPTION:Cost: $5 \nFor more info\, follow us on Facebook or call our office at (989) 842-5184.
URL:https://riverridgefamilycampground.com/event/labor-day-weekend-saturday-tie-dye/
LOCATION:River Ridge Family Campground\, 1989 West Pine River Rd.\, Breckenridge\, MI\, 48615\, United States
ATTACH;FMTTYPE=image/jpeg:https://riverridgefamilycampground.com/wp-content/uploads/2024/06/RR_Events_Tie-Dye.jpg
END:VEVENT
BEGIN:VEVENT
DTSTART;TZID=UTC:20240831T110000
DTEND;TZID=UTC:20240831T120000
DTSTAMP:20260421T080739
CREATED:20240627T141703Z
LAST-MODIFIED:20240627T165146Z
UID:10000161-1725102000-1725105600@riverridgefamilycampground.com
SUMMARY:Kayak Trip
DESCRIPTION:Transportation for the Kayak/Tube Trips are Thursday to Sunday Only! Any other day\, you can rent them from us and do your own transportation. \nFor more info\, follow us on Facebook or call our office at (989) 842-5184.
URL:https://riverridgefamilycampground.com/event/kayak-trip/2024-08-31/
LOCATION:River Ridge Family Campground\, 1989 West Pine River Rd.\, Breckenridge\, MI\, 48615\, United States
ATTACH;FMTTYPE=image/jpeg:https://riverridgefamilycampground.com/wp-content/uploads/2024/06/RR_Events_Kayak-Trip.jpg
END:VEVENT
END:VCALENDAR