BEGIN:VCALENDAR
VERSION:2.0
PRODID:-//River Ridge Family Campground - ECPv6.15.15//NONSGML v1.0//EN
CALSCALE:GREGORIAN
METHOD:PUBLISH
X-WR-CALNAME:River Ridge Family Campground
X-ORIGINAL-URL:https://riverridgefamilycampground.com
X-WR-CALDESC:Events for River Ridge Family Campground
REFRESH-INTERVAL;VALUE=DURATION:PT1H
X-Robots-Tag:noindex
X-PUBLISHED-TTL:PT1H
BEGIN:VTIMEZONE
TZID:UTC
BEGIN:STANDARD
TZOFFSETFROM:+0000
TZOFFSETTO:+0000
TZNAME:UTC
DTSTART:20230101T000000
END:STANDARD
END:VTIMEZONE
BEGIN:VEVENT
DTSTART;TZID=UTC:20240823T110000
DTEND;TZID=UTC:20240823T120000
DTSTAMP:20260425T125144
CREATED:20240627T141703Z
LAST-MODIFIED:20240627T165146Z
UID:10000156-1724410800-1724414400@riverridgefamilycampground.com
SUMMARY:Kayak Trip
DESCRIPTION:Transportation for the Kayak/Tube Trips are Thursday to Sunday Only! Any other day\, you can rent them from us and do your own transportation. \nFor more info\, follow us on Facebook or call our office at (989) 842-5184.
URL:https://riverridgefamilycampground.com/event/kayak-trip/2024-08-23/
LOCATION:River Ridge Family Campground\, 1989 West Pine River Rd.\, Breckenridge\, MI\, 48615\, United States
ATTACH;FMTTYPE=image/jpeg:https://riverridgefamilycampground.com/wp-content/uploads/2024/06/RR_Events_Kayak-Trip.jpg
END:VEVENT
BEGIN:VEVENT
DTSTART;TZID=UTC:20240822T163000
DTEND;TZID=UTC:20240822T173000
DTSTAMP:20260425T125144
CREATED:20240627T141951Z
LAST-MODIFIED:20240627T164813Z
UID:10000299-1724344200-1724347800@riverridgefamilycampground.com
SUMMARY:Kayak Trip
DESCRIPTION:Transportation for the Kayak/Tube Trips are Thursday to Sunday Only! Any other day\, you can rent them from us and do your own transportation. \nFor more info\, follow us on Facebook or call our office at (989) 842-5184.
URL:https://riverridgefamilycampground.com/event/kayak-trip-3/2024-08-22/
LOCATION:River Ridge Family Campground\, 1989 West Pine River Rd.\, Breckenridge\, MI\, 48615\, United States
ATTACH;FMTTYPE=image/jpeg:https://riverridgefamilycampground.com/wp-content/uploads/2024/06/RR_Events_Kayak-Trip.jpg
END:VEVENT
BEGIN:VEVENT
DTSTART;TZID=UTC:20240822T150000
DTEND;TZID=UTC:20240822T160000
DTSTAMP:20260425T125144
CREATED:20240627T142555Z
LAST-MODIFIED:20240627T165054Z
UID:10000443-1724338800-1724342400@riverridgefamilycampground.com
SUMMARY:Tubing Trips
DESCRIPTION:Transportation for the Kayak/Tube Trips are Thursday to Sunday Only! Any other day\, you can rent them from us and do your own transportation. \nFor more info\, follow us on Facebook or call our office at (989) 842-5184.
URL:https://riverridgefamilycampground.com/event/tubing-trips-2/2024-08-22/
LOCATION:River Ridge Family Campground\, 1989 West Pine River Rd.\, Breckenridge\, MI\, 48615\, United States
ATTACH;FMTTYPE=image/jpeg:https://riverridgefamilycampground.com/wp-content/uploads/2024/06/RR_Events_Tubing.jpg
END:VEVENT
BEGIN:VEVENT
DTSTART;TZID=UTC:20240822T133000
DTEND;TZID=UTC:20240822T143000
DTSTAMP:20260425T125144
CREATED:20240627T141847Z
LAST-MODIFIED:20240627T165011Z
UID:10000227-1724333400-1724337000@riverridgefamilycampground.com
SUMMARY:Kayak Trip
DESCRIPTION:Transportation for the Kayak/Tube Trips are Thursday to Sunday Only! Any other day\, you can rent them from us and do your own transportation. \nFor more info\, follow us on Facebook or call our office at (989) 842-5184.
URL:https://riverridgefamilycampground.com/event/kayak-trip-2/2024-08-22/
LOCATION:River Ridge Family Campground\, 1989 West Pine River Rd.\, Breckenridge\, MI\, 48615\, United States
ATTACH;FMTTYPE=image/jpeg:https://riverridgefamilycampground.com/wp-content/uploads/2024/06/RR_Events_Kayak-Trip.jpg
END:VEVENT
BEGIN:VEVENT
DTSTART;TZID=UTC:20240822T120000
DTEND;TZID=UTC:20240822T150000
DTSTAMP:20260425T125144
CREATED:20240627T142313Z
LAST-MODIFIED:20240627T164840Z
UID:10000371-1724328000-1724338800@riverridgefamilycampground.com
SUMMARY:Tubing Trips
DESCRIPTION:Transportation for the Kayak/Tube Trips are Thursday to Sunday Only! Any other day\, you can rent them from us and do your own transportation. \nFor more info\, follow us on Facebook or call our office at (989) 842-5184.
URL:https://riverridgefamilycampground.com/event/tubing-trips/2024-08-22/
LOCATION:River Ridge Family Campground\, 1989 West Pine River Rd.\, Breckenridge\, MI\, 48615\, United States
ATTACH;FMTTYPE=image/jpeg:https://riverridgefamilycampground.com/wp-content/uploads/2024/06/RR_Events_Tubing.jpg
END:VEVENT
BEGIN:VEVENT
DTSTART;TZID=UTC:20240822T110000
DTEND;TZID=UTC:20240822T120000
DTSTAMP:20260425T125144
CREATED:20240627T141703Z
LAST-MODIFIED:20240627T165146Z
UID:10000155-1724324400-1724328000@riverridgefamilycampground.com
SUMMARY:Kayak Trip
DESCRIPTION:Transportation for the Kayak/Tube Trips are Thursday to Sunday Only! Any other day\, you can rent them from us and do your own transportation. \nFor more info\, follow us on Facebook or call our office at (989) 842-5184.
URL:https://riverridgefamilycampground.com/event/kayak-trip/2024-08-22/
LOCATION:River Ridge Family Campground\, 1989 West Pine River Rd.\, Breckenridge\, MI\, 48615\, United States
ATTACH;FMTTYPE=image/jpeg:https://riverridgefamilycampground.com/wp-content/uploads/2024/06/RR_Events_Kayak-Trip.jpg
END:VEVENT
BEGIN:VEVENT
DTSTART;TZID=UTC:20240818T163000
DTEND;TZID=UTC:20240818T173000
DTSTAMP:20260425T125144
CREATED:20240627T141951Z
LAST-MODIFIED:20240627T164813Z
UID:10000298-1723998600-1724002200@riverridgefamilycampground.com
SUMMARY:Kayak Trip
DESCRIPTION:Transportation for the Kayak/Tube Trips are Thursday to Sunday Only! Any other day\, you can rent them from us and do your own transportation. \nFor more info\, follow us on Facebook or call our office at (989) 842-5184.
URL:https://riverridgefamilycampground.com/event/kayak-trip-3/2024-08-18/
LOCATION:River Ridge Family Campground\, 1989 West Pine River Rd.\, Breckenridge\, MI\, 48615\, United States
ATTACH;FMTTYPE=image/jpeg:https://riverridgefamilycampground.com/wp-content/uploads/2024/06/RR_Events_Kayak-Trip.jpg
END:VEVENT
BEGIN:VEVENT
DTSTART;TZID=UTC:20240818T150000
DTEND;TZID=UTC:20240818T160000
DTSTAMP:20260425T125144
CREATED:20240627T142555Z
LAST-MODIFIED:20240627T165054Z
UID:10000442-1723993200-1723996800@riverridgefamilycampground.com
SUMMARY:Tubing Trips
DESCRIPTION:Transportation for the Kayak/Tube Trips are Thursday to Sunday Only! Any other day\, you can rent them from us and do your own transportation. \nFor more info\, follow us on Facebook or call our office at (989) 842-5184.
URL:https://riverridgefamilycampground.com/event/tubing-trips-2/2024-08-18/
LOCATION:River Ridge Family Campground\, 1989 West Pine River Rd.\, Breckenridge\, MI\, 48615\, United States
ATTACH;FMTTYPE=image/jpeg:https://riverridgefamilycampground.com/wp-content/uploads/2024/06/RR_Events_Tubing.jpg
END:VEVENT
BEGIN:VEVENT
DTSTART;TZID=UTC:20240818T133000
DTEND;TZID=UTC:20240818T143000
DTSTAMP:20260425T125144
CREATED:20240627T141847Z
LAST-MODIFIED:20240627T165011Z
UID:10000226-1723987800-1723991400@riverridgefamilycampground.com
SUMMARY:Kayak Trip
DESCRIPTION:Transportation for the Kayak/Tube Trips are Thursday to Sunday Only! Any other day\, you can rent them from us and do your own transportation. \nFor more info\, follow us on Facebook or call our office at (989) 842-5184.
URL:https://riverridgefamilycampground.com/event/kayak-trip-2/2024-08-18/
LOCATION:River Ridge Family Campground\, 1989 West Pine River Rd.\, Breckenridge\, MI\, 48615\, United States
ATTACH;FMTTYPE=image/jpeg:https://riverridgefamilycampground.com/wp-content/uploads/2024/06/RR_Events_Kayak-Trip.jpg
END:VEVENT
BEGIN:VEVENT
DTSTART;TZID=UTC:20240818T120000
DTEND;TZID=UTC:20240818T150000
DTSTAMP:20260425T125144
CREATED:20240627T142313Z
LAST-MODIFIED:20240627T164840Z
UID:10000370-1723982400-1723993200@riverridgefamilycampground.com
SUMMARY:Tubing Trips
DESCRIPTION:Transportation for the Kayak/Tube Trips are Thursday to Sunday Only! Any other day\, you can rent them from us and do your own transportation. \nFor more info\, follow us on Facebook or call our office at (989) 842-5184.
URL:https://riverridgefamilycampground.com/event/tubing-trips/2024-08-18/
LOCATION:River Ridge Family Campground\, 1989 West Pine River Rd.\, Breckenridge\, MI\, 48615\, United States
ATTACH;FMTTYPE=image/jpeg:https://riverridgefamilycampground.com/wp-content/uploads/2024/06/RR_Events_Tubing.jpg
END:VEVENT
BEGIN:VEVENT
DTSTART;TZID=UTC:20240818T110000
DTEND;TZID=UTC:20240818T120000
DTSTAMP:20260425T125144
CREATED:20240627T141703Z
LAST-MODIFIED:20240627T165146Z
UID:10000154-1723978800-1723982400@riverridgefamilycampground.com
SUMMARY:Kayak Trip
DESCRIPTION:Transportation for the Kayak/Tube Trips are Thursday to Sunday Only! Any other day\, you can rent them from us and do your own transportation. \nFor more info\, follow us on Facebook or call our office at (989) 842-5184.
URL:https://riverridgefamilycampground.com/event/kayak-trip/2024-08-18/
LOCATION:River Ridge Family Campground\, 1989 West Pine River Rd.\, Breckenridge\, MI\, 48615\, United States
ATTACH;FMTTYPE=image/jpeg:https://riverridgefamilycampground.com/wp-content/uploads/2024/06/RR_Events_Kayak-Trip.jpg
END:VEVENT
BEGIN:VEVENT
DTSTART;TZID=UTC:20240817T163000
DTEND;TZID=UTC:20240817T173000
DTSTAMP:20260425T125144
CREATED:20240627T141951Z
LAST-MODIFIED:20240627T164813Z
UID:10000297-1723912200-1723915800@riverridgefamilycampground.com
SUMMARY:Kayak Trip
DESCRIPTION:Transportation for the Kayak/Tube Trips are Thursday to Sunday Only! Any other day\, you can rent them from us and do your own transportation. \nFor more info\, follow us on Facebook or call our office at (989) 842-5184.
URL:https://riverridgefamilycampground.com/event/kayak-trip-3/2024-08-17/
LOCATION:River Ridge Family Campground\, 1989 West Pine River Rd.\, Breckenridge\, MI\, 48615\, United States
ATTACH;FMTTYPE=image/jpeg:https://riverridgefamilycampground.com/wp-content/uploads/2024/06/RR_Events_Kayak-Trip.jpg
END:VEVENT
BEGIN:VEVENT
DTSTART;TZID=UTC:20240817T150000
DTEND;TZID=UTC:20240817T160000
DTSTAMP:20260425T125144
CREATED:20240627T142931Z
LAST-MODIFIED:20240627T164623Z
UID:10000508-1723906800-1723910400@riverridgefamilycampground.com
SUMMARY:Scavenger Hunt
DESCRIPTION:For more info\, follow us on Facebook or call our office at (989) 842-5184.
URL:https://riverridgefamilycampground.com/event/scavenger-hunt/2024-08-17/
LOCATION:River Ridge Family Campground\, 1989 West Pine River Rd.\, Breckenridge\, MI\, 48615\, United States
ATTACH;FMTTYPE=image/jpeg:https://riverridgefamilycampground.com/wp-content/uploads/2024/06/RR_Events_Scavenger-Hunt.jpg
END:VEVENT
BEGIN:VEVENT
DTSTART;TZID=UTC:20240817T150000
DTEND;TZID=UTC:20240817T160000
DTSTAMP:20260425T125144
CREATED:20240627T142555Z
LAST-MODIFIED:20240627T165054Z
UID:10000441-1723906800-1723910400@riverridgefamilycampground.com
SUMMARY:Tubing Trips
DESCRIPTION:Transportation for the Kayak/Tube Trips are Thursday to Sunday Only! Any other day\, you can rent them from us and do your own transportation. \nFor more info\, follow us on Facebook or call our office at (989) 842-5184.
URL:https://riverridgefamilycampground.com/event/tubing-trips-2/2024-08-17/
LOCATION:River Ridge Family Campground\, 1989 West Pine River Rd.\, Breckenridge\, MI\, 48615\, United States
ATTACH;FMTTYPE=image/jpeg:https://riverridgefamilycampground.com/wp-content/uploads/2024/06/RR_Events_Tubing.jpg
END:VEVENT
BEGIN:VEVENT
DTSTART;TZID=UTC:20240817T150000
DTEND;TZID=UTC:20240817T160000
DTSTAMP:20260425T125144
CREATED:20240627T132844Z
LAST-MODIFIED:20240627T160556Z
UID:10000041-1723906800-1723910400@riverridgefamilycampground.com
SUMMARY:Superhero Weekend: Trivia
DESCRIPTION:For more info\, follow us on Facebook or call our office at (989) 842-5184.
URL:https://riverridgefamilycampground.com/event/superhero-weekend-trivia/
LOCATION:River Ridge Family Campground\, 1989 West Pine River Rd.\, Breckenridge\, MI\, 48615\, United States
ATTACH;FMTTYPE=image/jpeg:https://riverridgefamilycampground.com/wp-content/uploads/2024/06/RR_Events_Superhero-Trivia.jpg
END:VEVENT
BEGIN:VEVENT
DTSTART;TZID=UTC:20240817T133000
DTEND;TZID=UTC:20240817T143000
DTSTAMP:20260425T125144
CREATED:20240627T141847Z
LAST-MODIFIED:20240627T165011Z
UID:10000225-1723901400-1723905000@riverridgefamilycampground.com
SUMMARY:Kayak Trip
DESCRIPTION:Transportation for the Kayak/Tube Trips are Thursday to Sunday Only! Any other day\, you can rent them from us and do your own transportation. \nFor more info\, follow us on Facebook or call our office at (989) 842-5184.
URL:https://riverridgefamilycampground.com/event/kayak-trip-2/2024-08-17/
LOCATION:River Ridge Family Campground\, 1989 West Pine River Rd.\, Breckenridge\, MI\, 48615\, United States
ATTACH;FMTTYPE=image/jpeg:https://riverridgefamilycampground.com/wp-content/uploads/2024/06/RR_Events_Kayak-Trip.jpg
END:VEVENT
BEGIN:VEVENT
DTSTART;TZID=UTC:20240817T130000
DTEND;TZID=UTC:20240817T140000
DTSTAMP:20260425T125144
CREATED:20240627T132738Z
LAST-MODIFIED:20240627T160622Z
UID:10000040-1723899600-1723903200@riverridgefamilycampground.com
SUMMARY:Superhero Weekend: Spud Hut Food Truck
DESCRIPTION:For more info\, follow us on Facebook or call our office at (989) 842-5184.
URL:https://riverridgefamilycampground.com/event/superhero-weekend-spud-hut-food-truck/
LOCATION:River Ridge Family Campground\, 1989 West Pine River Rd.\, Breckenridge\, MI\, 48615\, United States
ATTACH;FMTTYPE=image/jpeg:https://riverridgefamilycampground.com/wp-content/uploads/2024/06/RR_Events_Spudhut-Food-Truck.jpg
END:VEVENT
BEGIN:VEVENT
DTSTART;TZID=UTC:20240817T120000
DTEND;TZID=UTC:20240817T150000
DTSTAMP:20260425T125144
CREATED:20240627T142313Z
LAST-MODIFIED:20240627T164840Z
UID:10000369-1723896000-1723906800@riverridgefamilycampground.com
SUMMARY:Tubing Trips
DESCRIPTION:Transportation for the Kayak/Tube Trips are Thursday to Sunday Only! Any other day\, you can rent them from us and do your own transportation. \nFor more info\, follow us on Facebook or call our office at (989) 842-5184.
URL:https://riverridgefamilycampground.com/event/tubing-trips/2024-08-17/
LOCATION:River Ridge Family Campground\, 1989 West Pine River Rd.\, Breckenridge\, MI\, 48615\, United States
ATTACH;FMTTYPE=image/jpeg:https://riverridgefamilycampground.com/wp-content/uploads/2024/06/RR_Events_Tubing.jpg
END:VEVENT
BEGIN:VEVENT
DTSTART;TZID=UTC:20240817T120000
DTEND;TZID=UTC:20240817T130000
DTSTAMP:20260425T125144
CREATED:20240627T142814Z
LAST-MODIFIED:20240627T164653Z
UID:10000490-1723896000-1723899600@riverridgefamilycampground.com
SUMMARY:Kids Craft
DESCRIPTION:For more info\, follow us on Facebook or call our office at (989) 842-5184.
URL:https://riverridgefamilycampground.com/event/kids-craft/2024-08-17/
LOCATION:River Ridge Family Campground\, 1989 West Pine River Rd.\, Breckenridge\, MI\, 48615\, United States
ATTACH;FMTTYPE=image/jpeg:https://riverridgefamilycampground.com/wp-content/uploads/2024/06/RR_Events_Kids-Craft.jpg
END:VEVENT
BEGIN:VEVENT
DTSTART;TZID=UTC:20240817T110000
DTEND;TZID=UTC:20240817T120000
DTSTAMP:20260425T125144
CREATED:20240627T141703Z
LAST-MODIFIED:20240627T165146Z
UID:10000153-1723892400-1723896000@riverridgefamilycampground.com
SUMMARY:Kayak Trip
DESCRIPTION:Transportation for the Kayak/Tube Trips are Thursday to Sunday Only! Any other day\, you can rent them from us and do your own transportation. \nFor more info\, follow us on Facebook or call our office at (989) 842-5184.
URL:https://riverridgefamilycampground.com/event/kayak-trip/2024-08-17/
LOCATION:River Ridge Family Campground\, 1989 West Pine River Rd.\, Breckenridge\, MI\, 48615\, United States
ATTACH;FMTTYPE=image/jpeg:https://riverridgefamilycampground.com/wp-content/uploads/2024/06/RR_Events_Kayak-Trip.jpg
END:VEVENT
BEGIN:VEVENT
DTSTART;VALUE=DATE:20240817
DTEND;VALUE=DATE:20240818
DTSTAMP:20260425T125144
CREATED:20240618T122646Z
LAST-MODIFIED:20240627T164910Z
UID:10000013-1723852800-1723939199@riverridgefamilycampground.com
SUMMARY:Movie At The Pond
DESCRIPTION:Every Saturday night at dark (Pending Weather: Runs from Memorial Day Weekend to the last Halloween Weekend) \nFor more info\, follow us on Facebook or call our office at (989) 842-5184.
URL:https://riverridgefamilycampground.com/event/movie-at-the-pond/2024-08-17/
LOCATION:River Ridge Family Campground\, 1989 West Pine River Rd.\, Breckenridge\, MI\, 48615\, United States
ATTACH;FMTTYPE=image/jpeg:https://riverridgefamilycampground.com/wp-content/uploads/2024/06/RR_Events_Movie.jpg
END:VEVENT
BEGIN:VEVENT
DTSTART;TZID=UTC:20240816T163000
DTEND;TZID=UTC:20240816T173000
DTSTAMP:20260425T125144
CREATED:20240627T141951Z
LAST-MODIFIED:20240627T164813Z
UID:10000296-1723825800-1723829400@riverridgefamilycampground.com
SUMMARY:Kayak Trip
DESCRIPTION:Transportation for the Kayak/Tube Trips are Thursday to Sunday Only! Any other day\, you can rent them from us and do your own transportation. \nFor more info\, follow us on Facebook or call our office at (989) 842-5184.
URL:https://riverridgefamilycampground.com/event/kayak-trip-3/2024-08-16/
LOCATION:River Ridge Family Campground\, 1989 West Pine River Rd.\, Breckenridge\, MI\, 48615\, United States
ATTACH;FMTTYPE=image/jpeg:https://riverridgefamilycampground.com/wp-content/uploads/2024/06/RR_Events_Kayak-Trip.jpg
END:VEVENT
BEGIN:VEVENT
DTSTART;TZID=UTC:20240816T150000
DTEND;TZID=UTC:20240816T160000
DTSTAMP:20260425T125144
CREATED:20240627T142555Z
LAST-MODIFIED:20240627T165054Z
UID:10000440-1723820400-1723824000@riverridgefamilycampground.com
SUMMARY:Tubing Trips
DESCRIPTION:Transportation for the Kayak/Tube Trips are Thursday to Sunday Only! Any other day\, you can rent them from us and do your own transportation. \nFor more info\, follow us on Facebook or call our office at (989) 842-5184.
URL:https://riverridgefamilycampground.com/event/tubing-trips-2/2024-08-16/
LOCATION:River Ridge Family Campground\, 1989 West Pine River Rd.\, Breckenridge\, MI\, 48615\, United States
ATTACH;FMTTYPE=image/jpeg:https://riverridgefamilycampground.com/wp-content/uploads/2024/06/RR_Events_Tubing.jpg
END:VEVENT
BEGIN:VEVENT
DTSTART;TZID=UTC:20240816T133000
DTEND;TZID=UTC:20240816T143000
DTSTAMP:20260425T125144
CREATED:20240627T141847Z
LAST-MODIFIED:20240627T165011Z
UID:10000224-1723815000-1723818600@riverridgefamilycampground.com
SUMMARY:Kayak Trip
DESCRIPTION:Transportation for the Kayak/Tube Trips are Thursday to Sunday Only! Any other day\, you can rent them from us and do your own transportation. \nFor more info\, follow us on Facebook or call our office at (989) 842-5184.
URL:https://riverridgefamilycampground.com/event/kayak-trip-2/2024-08-16/
LOCATION:River Ridge Family Campground\, 1989 West Pine River Rd.\, Breckenridge\, MI\, 48615\, United States
ATTACH;FMTTYPE=image/jpeg:https://riverridgefamilycampground.com/wp-content/uploads/2024/06/RR_Events_Kayak-Trip.jpg
END:VEVENT
BEGIN:VEVENT
DTSTART;TZID=UTC:20240816T120000
DTEND;TZID=UTC:20240816T150000
DTSTAMP:20260425T125144
CREATED:20240627T142313Z
LAST-MODIFIED:20240627T164840Z
UID:10000368-1723809600-1723820400@riverridgefamilycampground.com
SUMMARY:Tubing Trips
DESCRIPTION:Transportation for the Kayak/Tube Trips are Thursday to Sunday Only! Any other day\, you can rent them from us and do your own transportation. \nFor more info\, follow us on Facebook or call our office at (989) 842-5184.
URL:https://riverridgefamilycampground.com/event/tubing-trips/2024-08-16/
LOCATION:River Ridge Family Campground\, 1989 West Pine River Rd.\, Breckenridge\, MI\, 48615\, United States
ATTACH;FMTTYPE=image/jpeg:https://riverridgefamilycampground.com/wp-content/uploads/2024/06/RR_Events_Tubing.jpg
END:VEVENT
BEGIN:VEVENT
DTSTART;TZID=UTC:20240816T110000
DTEND;TZID=UTC:20240816T120000
DTSTAMP:20260425T125144
CREATED:20240627T141703Z
LAST-MODIFIED:20240627T165146Z
UID:10000152-1723806000-1723809600@riverridgefamilycampground.com
SUMMARY:Kayak Trip
DESCRIPTION:Transportation for the Kayak/Tube Trips are Thursday to Sunday Only! Any other day\, you can rent them from us and do your own transportation. \nFor more info\, follow us on Facebook or call our office at (989) 842-5184.
URL:https://riverridgefamilycampground.com/event/kayak-trip/2024-08-16/
LOCATION:River Ridge Family Campground\, 1989 West Pine River Rd.\, Breckenridge\, MI\, 48615\, United States
ATTACH;FMTTYPE=image/jpeg:https://riverridgefamilycampground.com/wp-content/uploads/2024/06/RR_Events_Kayak-Trip.jpg
END:VEVENT
BEGIN:VEVENT
DTSTART;TZID=UTC:20240815T163000
DTEND;TZID=UTC:20240815T173000
DTSTAMP:20260425T125144
CREATED:20240627T141951Z
LAST-MODIFIED:20240627T164813Z
UID:10000295-1723739400-1723743000@riverridgefamilycampground.com
SUMMARY:Kayak Trip
DESCRIPTION:Transportation for the Kayak/Tube Trips are Thursday to Sunday Only! Any other day\, you can rent them from us and do your own transportation. \nFor more info\, follow us on Facebook or call our office at (989) 842-5184.
URL:https://riverridgefamilycampground.com/event/kayak-trip-3/2024-08-15/
LOCATION:River Ridge Family Campground\, 1989 West Pine River Rd.\, Breckenridge\, MI\, 48615\, United States
ATTACH;FMTTYPE=image/jpeg:https://riverridgefamilycampground.com/wp-content/uploads/2024/06/RR_Events_Kayak-Trip.jpg
END:VEVENT
BEGIN:VEVENT
DTSTART;TZID=UTC:20240815T150000
DTEND;TZID=UTC:20240815T160000
DTSTAMP:20260425T125144
CREATED:20240627T142555Z
LAST-MODIFIED:20240627T165054Z
UID:10000439-1723734000-1723737600@riverridgefamilycampground.com
SUMMARY:Tubing Trips
DESCRIPTION:Transportation for the Kayak/Tube Trips are Thursday to Sunday Only! Any other day\, you can rent them from us and do your own transportation. \nFor more info\, follow us on Facebook or call our office at (989) 842-5184.
URL:https://riverridgefamilycampground.com/event/tubing-trips-2/2024-08-15/
LOCATION:River Ridge Family Campground\, 1989 West Pine River Rd.\, Breckenridge\, MI\, 48615\, United States
ATTACH;FMTTYPE=image/jpeg:https://riverridgefamilycampground.com/wp-content/uploads/2024/06/RR_Events_Tubing.jpg
END:VEVENT
BEGIN:VEVENT
DTSTART;TZID=UTC:20240815T133000
DTEND;TZID=UTC:20240815T143000
DTSTAMP:20260425T125144
CREATED:20240627T141847Z
LAST-MODIFIED:20240627T165011Z
UID:10000223-1723728600-1723732200@riverridgefamilycampground.com
SUMMARY:Kayak Trip
DESCRIPTION:Transportation for the Kayak/Tube Trips are Thursday to Sunday Only! Any other day\, you can rent them from us and do your own transportation. \nFor more info\, follow us on Facebook or call our office at (989) 842-5184.
URL:https://riverridgefamilycampground.com/event/kayak-trip-2/2024-08-15/
LOCATION:River Ridge Family Campground\, 1989 West Pine River Rd.\, Breckenridge\, MI\, 48615\, United States
ATTACH;FMTTYPE=image/jpeg:https://riverridgefamilycampground.com/wp-content/uploads/2024/06/RR_Events_Kayak-Trip.jpg
END:VEVENT
BEGIN:VEVENT
DTSTART;TZID=UTC:20240815T120000
DTEND;TZID=UTC:20240815T150000
DTSTAMP:20260425T125144
CREATED:20240627T142313Z
LAST-MODIFIED:20240627T164840Z
UID:10000367-1723723200-1723734000@riverridgefamilycampground.com
SUMMARY:Tubing Trips
DESCRIPTION:Transportation for the Kayak/Tube Trips are Thursday to Sunday Only! Any other day\, you can rent them from us and do your own transportation. \nFor more info\, follow us on Facebook or call our office at (989) 842-5184.
URL:https://riverridgefamilycampground.com/event/tubing-trips/2024-08-15/
LOCATION:River Ridge Family Campground\, 1989 West Pine River Rd.\, Breckenridge\, MI\, 48615\, United States
ATTACH;FMTTYPE=image/jpeg:https://riverridgefamilycampground.com/wp-content/uploads/2024/06/RR_Events_Tubing.jpg
END:VEVENT
END:VCALENDAR