BEGIN:VCALENDAR
VERSION:2.0
PRODID:-//River Ridge Family Campground - ECPv6.15.15//NONSGML v1.0//EN
CALSCALE:GREGORIAN
METHOD:PUBLISH
X-WR-CALNAME:River Ridge Family Campground
X-ORIGINAL-URL:https://riverridgefamilycampground.com
X-WR-CALDESC:Events for River Ridge Family Campground
REFRESH-INTERVAL;VALUE=DURATION:PT1H
X-Robots-Tag:noindex
X-PUBLISHED-TTL:PT1H
BEGIN:VTIMEZONE
TZID:UTC
BEGIN:STANDARD
TZOFFSETFROM:+0000
TZOFFSETTO:+0000
TZNAME:UTC
DTSTART:20230101T000000
END:STANDARD
END:VTIMEZONE
BEGIN:VEVENT
DTSTART;TZID=UTC:20240810T163000
DTEND;TZID=UTC:20240810T173000
DTSTAMP:20260426T024400
CREATED:20240627T141951Z
LAST-MODIFIED:20240627T164813Z
UID:10000293-1723307400-1723311000@riverridgefamilycampground.com
SUMMARY:Kayak Trip
DESCRIPTION:Transportation for the Kayak/Tube Trips are Thursday to Sunday Only! Any other day\, you can rent them from us and do your own transportation. \nFor more info\, follow us on Facebook or call our office at (989) 842-5184.
URL:https://riverridgefamilycampground.com/event/kayak-trip-3/2024-08-10/
LOCATION:River Ridge Family Campground\, 1989 West Pine River Rd.\, Breckenridge\, MI\, 48615\, United States
ATTACH;FMTTYPE=image/jpeg:https://riverridgefamilycampground.com/wp-content/uploads/2024/06/RR_Events_Kayak-Trip.jpg
END:VEVENT
BEGIN:VEVENT
DTSTART;TZID=UTC:20240810T150000
DTEND;TZID=UTC:20240810T160000
DTSTAMP:20260426T024400
CREATED:20240627T142931Z
LAST-MODIFIED:20240627T164623Z
UID:10000507-1723302000-1723305600@riverridgefamilycampground.com
SUMMARY:Scavenger Hunt
DESCRIPTION:For more info\, follow us on Facebook or call our office at (989) 842-5184.
URL:https://riverridgefamilycampground.com/event/scavenger-hunt/2024-08-10/
LOCATION:River Ridge Family Campground\, 1989 West Pine River Rd.\, Breckenridge\, MI\, 48615\, United States
ATTACH;FMTTYPE=image/jpeg:https://riverridgefamilycampground.com/wp-content/uploads/2024/06/RR_Events_Scavenger-Hunt.jpg
END:VEVENT
BEGIN:VEVENT
DTSTART;TZID=UTC:20240810T150000
DTEND;TZID=UTC:20240810T160000
DTSTAMP:20260426T024400
CREATED:20240627T142555Z
LAST-MODIFIED:20240627T165054Z
UID:10000437-1723302000-1723305600@riverridgefamilycampground.com
SUMMARY:Tubing Trips
DESCRIPTION:Transportation for the Kayak/Tube Trips are Thursday to Sunday Only! Any other day\, you can rent them from us and do your own transportation. \nFor more info\, follow us on Facebook or call our office at (989) 842-5184.
URL:https://riverridgefamilycampground.com/event/tubing-trips-2/2024-08-10/
LOCATION:River Ridge Family Campground\, 1989 West Pine River Rd.\, Breckenridge\, MI\, 48615\, United States
ATTACH;FMTTYPE=image/jpeg:https://riverridgefamilycampground.com/wp-content/uploads/2024/06/RR_Events_Tubing.jpg
END:VEVENT
BEGIN:VEVENT
DTSTART;TZID=UTC:20240810T133000
DTEND;TZID=UTC:20240810T143000
DTSTAMP:20260426T024400
CREATED:20240627T141847Z
LAST-MODIFIED:20240627T165011Z
UID:10000221-1723296600-1723300200@riverridgefamilycampground.com
SUMMARY:Kayak Trip
DESCRIPTION:Transportation for the Kayak/Tube Trips are Thursday to Sunday Only! Any other day\, you can rent them from us and do your own transportation. \nFor more info\, follow us on Facebook or call our office at (989) 842-5184.
URL:https://riverridgefamilycampground.com/event/kayak-trip-2/2024-08-10/
LOCATION:River Ridge Family Campground\, 1989 West Pine River Rd.\, Breckenridge\, MI\, 48615\, United States
ATTACH;FMTTYPE=image/jpeg:https://riverridgefamilycampground.com/wp-content/uploads/2024/06/RR_Events_Kayak-Trip.jpg
END:VEVENT
BEGIN:VEVENT
DTSTART;TZID=UTC:20240810T120000
DTEND;TZID=UTC:20240810T150000
DTSTAMP:20260426T024400
CREATED:20240627T142313Z
LAST-MODIFIED:20240627T164840Z
UID:10000365-1723291200-1723302000@riverridgefamilycampground.com
SUMMARY:Tubing Trips
DESCRIPTION:Transportation for the Kayak/Tube Trips are Thursday to Sunday Only! Any other day\, you can rent them from us and do your own transportation. \nFor more info\, follow us on Facebook or call our office at (989) 842-5184.
URL:https://riverridgefamilycampground.com/event/tubing-trips/2024-08-10/
LOCATION:River Ridge Family Campground\, 1989 West Pine River Rd.\, Breckenridge\, MI\, 48615\, United States
ATTACH;FMTTYPE=image/jpeg:https://riverridgefamilycampground.com/wp-content/uploads/2024/06/RR_Events_Tubing.jpg
END:VEVENT
BEGIN:VEVENT
DTSTART;TZID=UTC:20240810T120000
DTEND;TZID=UTC:20240810T130000
DTSTAMP:20260426T024400
CREATED:20240627T142814Z
LAST-MODIFIED:20240627T164653Z
UID:10000489-1723291200-1723294800@riverridgefamilycampground.com
SUMMARY:Kids Craft
DESCRIPTION:For more info\, follow us on Facebook or call our office at (989) 842-5184.
URL:https://riverridgefamilycampground.com/event/kids-craft/2024-08-10/
LOCATION:River Ridge Family Campground\, 1989 West Pine River Rd.\, Breckenridge\, MI\, 48615\, United States
ATTACH;FMTTYPE=image/jpeg:https://riverridgefamilycampground.com/wp-content/uploads/2024/06/RR_Events_Kids-Craft.jpg
END:VEVENT
BEGIN:VEVENT
DTSTART;TZID=UTC:20240810T110000
DTEND;TZID=UTC:20240810T120000
DTSTAMP:20260426T024400
CREATED:20240627T141703Z
LAST-MODIFIED:20240627T165146Z
UID:10000149-1723287600-1723291200@riverridgefamilycampground.com
SUMMARY:Kayak Trip
DESCRIPTION:Transportation for the Kayak/Tube Trips are Thursday to Sunday Only! Any other day\, you can rent them from us and do your own transportation. \nFor more info\, follow us on Facebook or call our office at (989) 842-5184.
URL:https://riverridgefamilycampground.com/event/kayak-trip/2024-08-10/
LOCATION:River Ridge Family Campground\, 1989 West Pine River Rd.\, Breckenridge\, MI\, 48615\, United States
ATTACH;FMTTYPE=image/jpeg:https://riverridgefamilycampground.com/wp-content/uploads/2024/06/RR_Events_Kayak-Trip.jpg
END:VEVENT
BEGIN:VEVENT
DTSTART;VALUE=DATE:20240810
DTEND;VALUE=DATE:20240811
DTSTAMP:20260426T024400
CREATED:20240627T132615Z
LAST-MODIFIED:20240627T160642Z
UID:10000039-1723248000-1723334399@riverridgefamilycampground.com
SUMMARY:Magic Weekend
DESCRIPTION:For more info\, follow us on Facebook or call our office at (989) 842-5184.
URL:https://riverridgefamilycampground.com/event/magic-weekend/
LOCATION:River Ridge Family Campground\, 1989 West Pine River Rd.\, Breckenridge\, MI\, 48615\, United States
ATTACH;FMTTYPE=image/jpeg:https://riverridgefamilycampground.com/wp-content/uploads/2024/06/RR_Events_Magic-Weekend.jpg
END:VEVENT
BEGIN:VEVENT
DTSTART;VALUE=DATE:20240810
DTEND;VALUE=DATE:20240811
DTSTAMP:20260426T024400
CREATED:20240618T122646Z
LAST-MODIFIED:20240627T164910Z
UID:10000012-1723248000-1723334399@riverridgefamilycampground.com
SUMMARY:Movie At The Pond
DESCRIPTION:Every Saturday night at dark (Pending Weather: Runs from Memorial Day Weekend to the last Halloween Weekend) \nFor more info\, follow us on Facebook or call our office at (989) 842-5184.
URL:https://riverridgefamilycampground.com/event/movie-at-the-pond/2024-08-10/
LOCATION:River Ridge Family Campground\, 1989 West Pine River Rd.\, Breckenridge\, MI\, 48615\, United States
ATTACH;FMTTYPE=image/jpeg:https://riverridgefamilycampground.com/wp-content/uploads/2024/06/RR_Events_Movie.jpg
END:VEVENT
BEGIN:VEVENT
DTSTART;TZID=UTC:20240809T163000
DTEND;TZID=UTC:20240809T173000
DTSTAMP:20260426T024400
CREATED:20240627T141951Z
LAST-MODIFIED:20240627T164813Z
UID:10000292-1723221000-1723224600@riverridgefamilycampground.com
SUMMARY:Kayak Trip
DESCRIPTION:Transportation for the Kayak/Tube Trips are Thursday to Sunday Only! Any other day\, you can rent them from us and do your own transportation. \nFor more info\, follow us on Facebook or call our office at (989) 842-5184.
URL:https://riverridgefamilycampground.com/event/kayak-trip-3/2024-08-09/
LOCATION:River Ridge Family Campground\, 1989 West Pine River Rd.\, Breckenridge\, MI\, 48615\, United States
ATTACH;FMTTYPE=image/jpeg:https://riverridgefamilycampground.com/wp-content/uploads/2024/06/RR_Events_Kayak-Trip.jpg
END:VEVENT
BEGIN:VEVENT
DTSTART;TZID=UTC:20240809T150000
DTEND;TZID=UTC:20240809T160000
DTSTAMP:20260426T024400
CREATED:20240627T142555Z
LAST-MODIFIED:20240627T165054Z
UID:10000436-1723215600-1723219200@riverridgefamilycampground.com
SUMMARY:Tubing Trips
DESCRIPTION:Transportation for the Kayak/Tube Trips are Thursday to Sunday Only! Any other day\, you can rent them from us and do your own transportation. \nFor more info\, follow us on Facebook or call our office at (989) 842-5184.
URL:https://riverridgefamilycampground.com/event/tubing-trips-2/2024-08-09/
LOCATION:River Ridge Family Campground\, 1989 West Pine River Rd.\, Breckenridge\, MI\, 48615\, United States
ATTACH;FMTTYPE=image/jpeg:https://riverridgefamilycampground.com/wp-content/uploads/2024/06/RR_Events_Tubing.jpg
END:VEVENT
BEGIN:VEVENT
DTSTART;TZID=UTC:20240809T133000
DTEND;TZID=UTC:20240809T143000
DTSTAMP:20260426T024400
CREATED:20240627T141847Z
LAST-MODIFIED:20240627T165011Z
UID:10000220-1723210200-1723213800@riverridgefamilycampground.com
SUMMARY:Kayak Trip
DESCRIPTION:Transportation for the Kayak/Tube Trips are Thursday to Sunday Only! Any other day\, you can rent them from us and do your own transportation. \nFor more info\, follow us on Facebook or call our office at (989) 842-5184.
URL:https://riverridgefamilycampground.com/event/kayak-trip-2/2024-08-09/
LOCATION:River Ridge Family Campground\, 1989 West Pine River Rd.\, Breckenridge\, MI\, 48615\, United States
ATTACH;FMTTYPE=image/jpeg:https://riverridgefamilycampground.com/wp-content/uploads/2024/06/RR_Events_Kayak-Trip.jpg
END:VEVENT
BEGIN:VEVENT
DTSTART;TZID=UTC:20240809T120000
DTEND;TZID=UTC:20240809T150000
DTSTAMP:20260426T024400
CREATED:20240627T142313Z
LAST-MODIFIED:20240627T164840Z
UID:10000364-1723204800-1723215600@riverridgefamilycampground.com
SUMMARY:Tubing Trips
DESCRIPTION:Transportation for the Kayak/Tube Trips are Thursday to Sunday Only! Any other day\, you can rent them from us and do your own transportation. \nFor more info\, follow us on Facebook or call our office at (989) 842-5184.
URL:https://riverridgefamilycampground.com/event/tubing-trips/2024-08-09/
LOCATION:River Ridge Family Campground\, 1989 West Pine River Rd.\, Breckenridge\, MI\, 48615\, United States
ATTACH;FMTTYPE=image/jpeg:https://riverridgefamilycampground.com/wp-content/uploads/2024/06/RR_Events_Tubing.jpg
END:VEVENT
BEGIN:VEVENT
DTSTART;TZID=UTC:20240809T110000
DTEND;TZID=UTC:20240809T120000
DTSTAMP:20260426T024400
CREATED:20240627T141703Z
LAST-MODIFIED:20240627T165146Z
UID:10000148-1723201200-1723204800@riverridgefamilycampground.com
SUMMARY:Kayak Trip
DESCRIPTION:Transportation for the Kayak/Tube Trips are Thursday to Sunday Only! Any other day\, you can rent them from us and do your own transportation. \nFor more info\, follow us on Facebook or call our office at (989) 842-5184.
URL:https://riverridgefamilycampground.com/event/kayak-trip/2024-08-09/
LOCATION:River Ridge Family Campground\, 1989 West Pine River Rd.\, Breckenridge\, MI\, 48615\, United States
ATTACH;FMTTYPE=image/jpeg:https://riverridgefamilycampground.com/wp-content/uploads/2024/06/RR_Events_Kayak-Trip.jpg
END:VEVENT
BEGIN:VEVENT
DTSTART;TZID=UTC:20240808T163000
DTEND;TZID=UTC:20240808T173000
DTSTAMP:20260426T024400
CREATED:20240627T141951Z
LAST-MODIFIED:20240627T164813Z
UID:10000291-1723134600-1723138200@riverridgefamilycampground.com
SUMMARY:Kayak Trip
DESCRIPTION:Transportation for the Kayak/Tube Trips are Thursday to Sunday Only! Any other day\, you can rent them from us and do your own transportation. \nFor more info\, follow us on Facebook or call our office at (989) 842-5184.
URL:https://riverridgefamilycampground.com/event/kayak-trip-3/2024-08-08/
LOCATION:River Ridge Family Campground\, 1989 West Pine River Rd.\, Breckenridge\, MI\, 48615\, United States
ATTACH;FMTTYPE=image/jpeg:https://riverridgefamilycampground.com/wp-content/uploads/2024/06/RR_Events_Kayak-Trip.jpg
END:VEVENT
BEGIN:VEVENT
DTSTART;TZID=UTC:20240808T150000
DTEND;TZID=UTC:20240808T160000
DTSTAMP:20260426T024400
CREATED:20240627T142555Z
LAST-MODIFIED:20240627T165054Z
UID:10000435-1723129200-1723132800@riverridgefamilycampground.com
SUMMARY:Tubing Trips
DESCRIPTION:Transportation for the Kayak/Tube Trips are Thursday to Sunday Only! Any other day\, you can rent them from us and do your own transportation. \nFor more info\, follow us on Facebook or call our office at (989) 842-5184.
URL:https://riverridgefamilycampground.com/event/tubing-trips-2/2024-08-08/
LOCATION:River Ridge Family Campground\, 1989 West Pine River Rd.\, Breckenridge\, MI\, 48615\, United States
ATTACH;FMTTYPE=image/jpeg:https://riverridgefamilycampground.com/wp-content/uploads/2024/06/RR_Events_Tubing.jpg
END:VEVENT
BEGIN:VEVENT
DTSTART;TZID=UTC:20240808T133000
DTEND;TZID=UTC:20240808T143000
DTSTAMP:20260426T024400
CREATED:20240627T141847Z
LAST-MODIFIED:20240627T165011Z
UID:10000219-1723123800-1723127400@riverridgefamilycampground.com
SUMMARY:Kayak Trip
DESCRIPTION:Transportation for the Kayak/Tube Trips are Thursday to Sunday Only! Any other day\, you can rent them from us and do your own transportation. \nFor more info\, follow us on Facebook or call our office at (989) 842-5184.
URL:https://riverridgefamilycampground.com/event/kayak-trip-2/2024-08-08/
LOCATION:River Ridge Family Campground\, 1989 West Pine River Rd.\, Breckenridge\, MI\, 48615\, United States
ATTACH;FMTTYPE=image/jpeg:https://riverridgefamilycampground.com/wp-content/uploads/2024/06/RR_Events_Kayak-Trip.jpg
END:VEVENT
BEGIN:VEVENT
DTSTART;TZID=UTC:20240808T120000
DTEND;TZID=UTC:20240808T150000
DTSTAMP:20260426T024400
CREATED:20240627T142313Z
LAST-MODIFIED:20240627T164840Z
UID:10000363-1723118400-1723129200@riverridgefamilycampground.com
SUMMARY:Tubing Trips
DESCRIPTION:Transportation for the Kayak/Tube Trips are Thursday to Sunday Only! Any other day\, you can rent them from us and do your own transportation. \nFor more info\, follow us on Facebook or call our office at (989) 842-5184.
URL:https://riverridgefamilycampground.com/event/tubing-trips/2024-08-08/
LOCATION:River Ridge Family Campground\, 1989 West Pine River Rd.\, Breckenridge\, MI\, 48615\, United States
ATTACH;FMTTYPE=image/jpeg:https://riverridgefamilycampground.com/wp-content/uploads/2024/06/RR_Events_Tubing.jpg
END:VEVENT
BEGIN:VEVENT
DTSTART;TZID=UTC:20240808T110000
DTEND;TZID=UTC:20240808T120000
DTSTAMP:20260426T024400
CREATED:20240627T141703Z
LAST-MODIFIED:20240627T165146Z
UID:10000147-1723114800-1723118400@riverridgefamilycampground.com
SUMMARY:Kayak Trip
DESCRIPTION:Transportation for the Kayak/Tube Trips are Thursday to Sunday Only! Any other day\, you can rent them from us and do your own transportation. \nFor more info\, follow us on Facebook or call our office at (989) 842-5184.
URL:https://riverridgefamilycampground.com/event/kayak-trip/2024-08-08/
LOCATION:River Ridge Family Campground\, 1989 West Pine River Rd.\, Breckenridge\, MI\, 48615\, United States
ATTACH;FMTTYPE=image/jpeg:https://riverridgefamilycampground.com/wp-content/uploads/2024/06/RR_Events_Kayak-Trip.jpg
END:VEVENT
BEGIN:VEVENT
DTSTART;TZID=UTC:20240804T163000
DTEND;TZID=UTC:20240804T173000
DTSTAMP:20260426T024400
CREATED:20240627T141951Z
LAST-MODIFIED:20240627T164813Z
UID:10000290-1722789000-1722792600@riverridgefamilycampground.com
SUMMARY:Kayak Trip
DESCRIPTION:Transportation for the Kayak/Tube Trips are Thursday to Sunday Only! Any other day\, you can rent them from us and do your own transportation. \nFor more info\, follow us on Facebook or call our office at (989) 842-5184.
URL:https://riverridgefamilycampground.com/event/kayak-trip-3/2024-08-04/
LOCATION:River Ridge Family Campground\, 1989 West Pine River Rd.\, Breckenridge\, MI\, 48615\, United States
ATTACH;FMTTYPE=image/jpeg:https://riverridgefamilycampground.com/wp-content/uploads/2024/06/RR_Events_Kayak-Trip.jpg
END:VEVENT
BEGIN:VEVENT
DTSTART;TZID=UTC:20240804T150000
DTEND;TZID=UTC:20240804T160000
DTSTAMP:20260426T024400
CREATED:20240627T142555Z
LAST-MODIFIED:20240627T165054Z
UID:10000434-1722783600-1722787200@riverridgefamilycampground.com
SUMMARY:Tubing Trips
DESCRIPTION:Transportation for the Kayak/Tube Trips are Thursday to Sunday Only! Any other day\, you can rent them from us and do your own transportation. \nFor more info\, follow us on Facebook or call our office at (989) 842-5184.
URL:https://riverridgefamilycampground.com/event/tubing-trips-2/2024-08-04/
LOCATION:River Ridge Family Campground\, 1989 West Pine River Rd.\, Breckenridge\, MI\, 48615\, United States
ATTACH;FMTTYPE=image/jpeg:https://riverridgefamilycampground.com/wp-content/uploads/2024/06/RR_Events_Tubing.jpg
END:VEVENT
BEGIN:VEVENT
DTSTART;TZID=UTC:20240804T133000
DTEND;TZID=UTC:20240804T143000
DTSTAMP:20260426T024400
CREATED:20240627T141847Z
LAST-MODIFIED:20240627T165011Z
UID:10000218-1722778200-1722781800@riverridgefamilycampground.com
SUMMARY:Kayak Trip
DESCRIPTION:Transportation for the Kayak/Tube Trips are Thursday to Sunday Only! Any other day\, you can rent them from us and do your own transportation. \nFor more info\, follow us on Facebook or call our office at (989) 842-5184.
URL:https://riverridgefamilycampground.com/event/kayak-trip-2/2024-08-04/
LOCATION:River Ridge Family Campground\, 1989 West Pine River Rd.\, Breckenridge\, MI\, 48615\, United States
ATTACH;FMTTYPE=image/jpeg:https://riverridgefamilycampground.com/wp-content/uploads/2024/06/RR_Events_Kayak-Trip.jpg
END:VEVENT
BEGIN:VEVENT
DTSTART;TZID=UTC:20240804T120000
DTEND;TZID=UTC:20240804T150000
DTSTAMP:20260426T024400
CREATED:20240627T142313Z
LAST-MODIFIED:20240627T164840Z
UID:10000362-1722772800-1722783600@riverridgefamilycampground.com
SUMMARY:Tubing Trips
DESCRIPTION:Transportation for the Kayak/Tube Trips are Thursday to Sunday Only! Any other day\, you can rent them from us and do your own transportation. \nFor more info\, follow us on Facebook or call our office at (989) 842-5184.
URL:https://riverridgefamilycampground.com/event/tubing-trips/2024-08-04/
LOCATION:River Ridge Family Campground\, 1989 West Pine River Rd.\, Breckenridge\, MI\, 48615\, United States
ATTACH;FMTTYPE=image/jpeg:https://riverridgefamilycampground.com/wp-content/uploads/2024/06/RR_Events_Tubing.jpg
END:VEVENT
BEGIN:VEVENT
DTSTART;TZID=UTC:20240804T110000
DTEND;TZID=UTC:20240804T120000
DTSTAMP:20260426T024400
CREATED:20240627T141703Z
LAST-MODIFIED:20240627T165146Z
UID:10000146-1722769200-1722772800@riverridgefamilycampground.com
SUMMARY:Kayak Trip
DESCRIPTION:Transportation for the Kayak/Tube Trips are Thursday to Sunday Only! Any other day\, you can rent them from us and do your own transportation. \nFor more info\, follow us on Facebook or call our office at (989) 842-5184.
URL:https://riverridgefamilycampground.com/event/kayak-trip/2024-08-04/
LOCATION:River Ridge Family Campground\, 1989 West Pine River Rd.\, Breckenridge\, MI\, 48615\, United States
ATTACH;FMTTYPE=image/jpeg:https://riverridgefamilycampground.com/wp-content/uploads/2024/06/RR_Events_Kayak-Trip.jpg
END:VEVENT
BEGIN:VEVENT
DTSTART;TZID=UTC:20240803T163000
DTEND;TZID=UTC:20240803T173000
DTSTAMP:20260426T024400
CREATED:20240627T141951Z
LAST-MODIFIED:20240627T164813Z
UID:10000289-1722702600-1722706200@riverridgefamilycampground.com
SUMMARY:Kayak Trip
DESCRIPTION:Transportation for the Kayak/Tube Trips are Thursday to Sunday Only! Any other day\, you can rent them from us and do your own transportation. \nFor more info\, follow us on Facebook or call our office at (989) 842-5184.
URL:https://riverridgefamilycampground.com/event/kayak-trip-3/2024-08-03/
LOCATION:River Ridge Family Campground\, 1989 West Pine River Rd.\, Breckenridge\, MI\, 48615\, United States
ATTACH;FMTTYPE=image/jpeg:https://riverridgefamilycampground.com/wp-content/uploads/2024/06/RR_Events_Kayak-Trip.jpg
END:VEVENT
BEGIN:VEVENT
DTSTART;TZID=UTC:20240803T150000
DTEND;TZID=UTC:20240803T160000
DTSTAMP:20260426T024400
CREATED:20240627T142931Z
LAST-MODIFIED:20240627T164623Z
UID:10000506-1722697200-1722700800@riverridgefamilycampground.com
SUMMARY:Scavenger Hunt
DESCRIPTION:For more info\, follow us on Facebook or call our office at (989) 842-5184.
URL:https://riverridgefamilycampground.com/event/scavenger-hunt/2024-08-03/
LOCATION:River Ridge Family Campground\, 1989 West Pine River Rd.\, Breckenridge\, MI\, 48615\, United States
ATTACH;FMTTYPE=image/jpeg:https://riverridgefamilycampground.com/wp-content/uploads/2024/06/RR_Events_Scavenger-Hunt.jpg
END:VEVENT
BEGIN:VEVENT
DTSTART;TZID=UTC:20240803T150000
DTEND;TZID=UTC:20240803T160000
DTSTAMP:20260426T024400
CREATED:20240627T142555Z
LAST-MODIFIED:20240627T165054Z
UID:10000433-1722697200-1722700800@riverridgefamilycampground.com
SUMMARY:Tubing Trips
DESCRIPTION:Transportation for the Kayak/Tube Trips are Thursday to Sunday Only! Any other day\, you can rent them from us and do your own transportation. \nFor more info\, follow us on Facebook or call our office at (989) 842-5184.
URL:https://riverridgefamilycampground.com/event/tubing-trips-2/2024-08-03/
LOCATION:River Ridge Family Campground\, 1989 West Pine River Rd.\, Breckenridge\, MI\, 48615\, United States
ATTACH;FMTTYPE=image/jpeg:https://riverridgefamilycampground.com/wp-content/uploads/2024/06/RR_Events_Tubing.jpg
END:VEVENT
BEGIN:VEVENT
DTSTART;TZID=UTC:20240803T133000
DTEND;TZID=UTC:20240803T143000
DTSTAMP:20260426T024400
CREATED:20240627T141847Z
LAST-MODIFIED:20240627T165011Z
UID:10000217-1722691800-1722695400@riverridgefamilycampground.com
SUMMARY:Kayak Trip
DESCRIPTION:Transportation for the Kayak/Tube Trips are Thursday to Sunday Only! Any other day\, you can rent them from us and do your own transportation. \nFor more info\, follow us on Facebook or call our office at (989) 842-5184.
URL:https://riverridgefamilycampground.com/event/kayak-trip-2/2024-08-03/
LOCATION:River Ridge Family Campground\, 1989 West Pine River Rd.\, Breckenridge\, MI\, 48615\, United States
ATTACH;FMTTYPE=image/jpeg:https://riverridgefamilycampground.com/wp-content/uploads/2024/06/RR_Events_Kayak-Trip.jpg
END:VEVENT
BEGIN:VEVENT
DTSTART;TZID=UTC:20240803T130000
DTEND;TZID=UTC:20240803T140000
DTSTAMP:20260426T024400
CREATED:20240627T132455Z
LAST-MODIFIED:20240627T160710Z
UID:10000038-1722690000-1722693600@riverridgefamilycampground.com
SUMMARY:Nature Weekend: Rock Painting
DESCRIPTION:For more info\, follow us on Facebook or call our office at (989) 842-5184.
URL:https://riverridgefamilycampground.com/event/nature-weekend-rock-painting/
LOCATION:River Ridge Family Campground\, 1989 West Pine River Rd.\, Breckenridge\, MI\, 48615\, United States
ATTACH;FMTTYPE=image/jpeg:https://riverridgefamilycampground.com/wp-content/uploads/2024/06/RR_Events_Rock-Paining.jpg
END:VEVENT
BEGIN:VEVENT
DTSTART;TZID=UTC:20240803T120000
DTEND;TZID=UTC:20240803T150000
DTSTAMP:20260426T024400
CREATED:20240627T142313Z
LAST-MODIFIED:20240627T164840Z
UID:10000361-1722686400-1722697200@riverridgefamilycampground.com
SUMMARY:Tubing Trips
DESCRIPTION:Transportation for the Kayak/Tube Trips are Thursday to Sunday Only! Any other day\, you can rent them from us and do your own transportation. \nFor more info\, follow us on Facebook or call our office at (989) 842-5184.
URL:https://riverridgefamilycampground.com/event/tubing-trips/2024-08-03/
LOCATION:River Ridge Family Campground\, 1989 West Pine River Rd.\, Breckenridge\, MI\, 48615\, United States
ATTACH;FMTTYPE=image/jpeg:https://riverridgefamilycampground.com/wp-content/uploads/2024/06/RR_Events_Tubing.jpg
END:VEVENT
END:VCALENDAR